BEGIN:VCALENDAR
VERSION:2.0
PRODID:-//wp-events-plugin.com//6.6.4.4//EN
BEGIN:VEVENT
UID:1320@ggzlimburg.be
DTSTART:20260309T070000Z
DTEND:20260309T090000Z
DTSTAMP:20260102T100801Z
URL:https://ggzlimburg.be/events/20260309-supervisie-werken-met-eetproblem
 en-in-de-eerste-lijn/
SUMMARY:20260309 Supervisie "Werken met eetproblemen in de eerste lijn"
DESCRIPTION:Deze supervisie is gericht op eerstelijnsmedewerkers die rege
 lmatig met eetproblemen in contact komen.\n\nLocatie: Provinciehuis Limbur
 g\, Voerenzaal\, Universiteitslaan 1\, 3500 Hasselt\n\nSprekers: Leden van
  het MAST Eetstoornissen: Sylvia Gijbels (psycholoog)\, Marlies Treunen (p
 sycholoog)\, Lobke Husson (diëtist) en Pieter Cuypers (kinder- en jeugdps
 ychiater).\n\nInschrijven: Schrijf je in via deze link. Geef zeker een ca
 sus of vragen mee als je die wil bespreken.\n\nPrijs: Deze supervisie is g
 ratis.\n\nHeb je nog vragen? Neem contact met het MAST Eetstoornissen (mas
 t@ligant.be).
CATEGORIES:0 - 18 jaar,Leeftijd,Vormingen,Vormingen-login
LOCATION:Provinciehuis\, Universiteitslaan 1\, Hasselt\, Limburg\, 3500\, B
 elgië
GEO:50.930355;5.363478
X-APPLE-STRUCTURED-LOCATION;VALUE=URI;X-ADDRESS=Universiteitslaan 1\, Hasse
 lt\, Limburg\, 3500\, België;X-APPLE-RADIUS=100;X-TITLE=Provinciehuis:geo
 :50.930355,5.363478
END:VEVENT
END:VCALENDAR