BEGIN:VCALENDAR
VERSION:2.0
PRODID:-//wp-events-plugin.com//6.6.4.4//EN
BEGIN:VEVENT
UID:1329@ggzlimburg.be
DTSTART:20260313T073000Z
DTEND:20260313T103000Z
DTSTAMP:20260107T100014Z
URL:https://ggzlimburg.be/events/20260313-rol-van-religie-in-begeleiding-v
 an-personen-op-de-vlucht/
SUMMARY:20260313 Rol van religie in begeleiding van personen op de vlucht
DESCRIPTION:Datum: Vrijdag\, 13 maart 2026 van 9u30-12u30\n\nLocatie: Provi
 nciehuis\, Universiteitslaan 1\, 3500 Hasselt  (Voerenzaal) \n\nInhoud v
 an de vorming:\n\nHet is belangrijk om religie te erkennen als een krachti
 g element in het leven van veel mensen\, vooral in de context van vluchtel
 ingenbegeleiding. Religie kan zowel een bron van steun en veerkracht zijn 
 als een uitdaging in het creëren van verbinding tussen verschillende cult
 uren en achtergronden. Bij het bespreekbaar maken van religie in de begele
 iding van vluchtelingen is het essentieel om op een respectvolle en open m
 anier te werk te gaan. Deze vorming biedt handvaten aan om op een cultuurs
 ensitieve wijze rekening te houden met de diverse religieuze overtuigingen
  en praktijken van vluchtelingen.\n\nDoelgroep: Iedereen die met deze doe
 lgroep werkt is welkom!\n\nDocent: Michelle Warriner\n\nPrijs: Gratis\n\nI
 nschrijven: Schrijf je  via deze link: 20260313 Rol van religie in begele
 iding van personen op de vlucht - Formulier invullen
CATEGORIES:0 - 18 jaar,15 - 23 jaar,Leeftijd,Vormingen,Vormingen-login
LOCATION:Provinciehuis\, Universiteitslaan 1\, Hasselt\, Limburg\, 3500\, B
 elgië
GEO:50.930355;5.363478
X-APPLE-STRUCTURED-LOCATION;VALUE=URI;X-ADDRESS=Universiteitslaan 1\, Hasse
 lt\, Limburg\, 3500\, België;X-APPLE-RADIUS=100;X-TITLE=Provinciehuis:geo
 :50.930355,5.363478
END:VEVENT
END:VCALENDAR