BEGIN:VCALENDAR
VERSION:2.0
PRODID:-//wp-events-plugin.com//6.6.4.4//EN
BEGIN:VEVENT
UID:1237@ggzlimburg.be
DTSTART:20260320T070000Z
DTEND:20260403T143000Z
DTSTAMP:20251216T100622Z
URL:https://ggzlimburg.be/events/20260320_0327_0403-kopp-koap-3-daagse-20-
 03-27-03-3-04-crosslink/
SUMMARY:KOPP/KOAP 3-daagse: 20/03\, 27/03\, 3/04 – Crosslink
DESCRIPTION:In de begeleiding van een kind of jongere kom je geregeld in aa
 nraking met een ouder die worstelt met een psychische kwetsbaarheid. Zij d
 ie het traject met de ouders aangaan willen dan weer extra zorg bieden voo
 r het kind\, aanwezig in de context. Hulpverleners komen hoe dan ook in aa
 nraking met het thema KOPP/KOAP. Met deze vorming willen we jullie sensibi
 liseren in het omgaan met deze thematiek.
CATEGORIES:0 - 18 jaar,15 - 23 jaar,Leeftijd,Vormingen-login
LOCATION:Sociaal Huis Portavida\, Welzijnscampus 11\, Genk\, 3600\, België
GEO:50.967325;5.510364
X-APPLE-STRUCTURED-LOCATION;VALUE=URI;X-ADDRESS=Welzijnscampus 11\, Genk\, 
 3600\, België;X-APPLE-RADIUS=100;X-TITLE=Sociaal Huis Portavida:geo:50.96
 7325,5.510364
END:VEVENT
END:VCALENDAR