BEGIN:VCALENDAR
VERSION:2.0
PRODID:-//wp-events-plugin.com//6.6.4.4//EN
BEGIN:VEVENT
UID:1206@ggzlimburg.be
DTSTART:20260324T073000Z
DTEND:20260324T140000Z
DTSTAMP:20260126T061446Z
URL:https://ggzlimburg.be/events/20260324_0428-slim-en-gevoelig-cognitieve
 -voorsprong-en-hoogbegaafdheid-in-de-eerste-lijn/
SUMMARY:20260324_0428 Slim én gevoelig: cognitieve voorsprong en hoogbegaa
 fdheid in de eerste lijn - VOLZET
DESCRIPTION:Cognitieve voorsprong en hoogbegaafdheid tonen zich op vele man
 ieren: van snelle denkers tot gevoelige perfectionisten\, van creatieve on
 derpresteerders tot kritische tieners.\n\nIn deze tweedelige workshop on
 tdek je wat er écht schuilgaat achter deze termen en hoe je als eerstelij
 nspsycholoog of -pedagoog met vertrouwen het gesprek kan aangaan\, ook als
  dit nog een nieuw terrein voor je is.\n\nIn het eerste deel richten we on
 ze aandacht op het profiel en de ondersteuning van deze kinderen en jonger
 en binnen onze klinische praktijk\, in het tweede deel gaan we ons middels
  intervisie richten op krachtige samenwerking met andere betrokken actoren
 .\n\nWe verkennen het verschil tussen cognitieve voorsprong en hoogbegaafd
 heid\, maar kijken ook bewust voorbij de labels\, naar het kind achter de 
 kwaliteiten en kwetsbaarheden. Via praktijkgerichte voorbeelden\, lichaam
 sgerichte oefeningen en herkenbare casussen krijg je zicht op wat zich afs
 peelt bij deze kinderen en jongeren - in hun hoofd én in hun lijf.\n\nJe 
 gaat naar huis met concrete handvatten\, gesprekstechnieken en een frisse 
 blik om in je praktijk beter te signaleren\, ondersteunen en gericht door 
 te verwijzen. Een vorming die kennis verdiept\, maar vooral vertrouwen gee
 ft om er écht mee aan de slag te gaan.\n\nData? Je volgt beide sessies:
   \n\n 	Dinsdag 24/03/2026 van 9u30 tot 16u00 én\n 	Dinsdag 28/04/20
 26 van 9u30 tot 12u30.\n\nLocatie? Provinciehuis\, Voerenzaal\, Universi
 teitslaan 1\, 3500 Hasselt\n\n\nDoor wie? Deze workshop wordt gegeven door
  Annick Ulburghs en Karis Willems. Annick (Klinisch psycholoog\, psych
 odynamisch therapeut en EMDR practitioner) en Karis (Klinisch orthopedagog
 e) zijn beide werkzaam in een eigen praktijk en hebben affiniteit met jong
 e kinderen met een cognitieve voorsprong.\n\nVoor wie? Deze vorming kan g
 evolgd worden door geconventioneerde KP/KO van Limburg.\n\nDoelgroep? 
 Kinderen en jongeren.\n\nVragen? Heb je vragen? Meer informatie bij Ulbu
 rghs Annick (annick@dekiempraktijk.be)\n\nKostprijs? Deze workshop is gra
 tis.\n\nInteresse? 20260324-0428 Slim én gevoelig: cognitieve voorsprong 
 en hoogbegaafdheid in 1e lijn VOLZET - Formulier invullen\n\n&nbsp\;
CATEGORIES:0 - 18 jaar,Leeftijd,Vormingen-login
LOCATION:Provinciehuis\, Universiteitslaan 1\, Hasselt\, Limburg\, 3500\, B
 elgië
GEO:50.930355;5.363478
X-APPLE-STRUCTURED-LOCATION;VALUE=URI;X-ADDRESS=Universiteitslaan 1\, Hasse
 lt\, Limburg\, 3500\, België;X-APPLE-RADIUS=100;X-TITLE=Provinciehuis:geo
 :50.930355,5.363478
END:VEVENT
END:VCALENDAR