BEGIN:VCALENDAR
VERSION:2.0
PRODID:-//wp-events-plugin.com//6.6.4.4//EN
BEGIN:VEVENT
UID:1556@ggzlimburg.be
DTSTART:20260615T113000Z
DTEND:20260615T140000Z
DTSTAMP:20260327T124736Z
URL:https://ggzlimburg.be/events/20260615-intervisie-jongeren-in-transitie
 -van-jongeren-naar-volwassenhulpverlening-2/
SUMMARY:20260615 Intervisie - jongeren in transitie- van jongeren naar volw
 assenhulpverlening
DESCRIPTION:Tijdens deze intervisie brengen deelnemers eigen casussen in en
  denken we samen na over de uitdagingen die de transitieleeftijd met zich 
 meebrengt. In een open en vertrouwelijke sfeer wisselen we ervaringen uit\
 , reflecteren we op ons handelen en zoeken we samen naar handvatten. Het p
 roces is hierin belangrijker dan de uiteindelijke “oplossing”.
CATEGORIES:15 - 23 jaar,Leeftijd,Vormingen,Vormingen-login
LOCATION:Provinciehuis\, Universiteitslaan 1\, Hasselt\, Limburg\, 3500\, B
 elgië
GEO:50.930355;5.363478
X-APPLE-STRUCTURED-LOCATION;VALUE=URI;X-ADDRESS=Universiteitslaan 1\, Hasse
 lt\, Limburg\, 3500\, België;X-APPLE-RADIUS=100;X-TITLE=Provinciehuis:geo
 :50.930355,5.363478
END:VEVENT
END:VCALENDAR