BEGIN:VCALENDAR
VERSION:2.0
PRODID:-//wp-events-plugin.com//6.6.4.4//EN
BEGIN:VEVENT
UID:1560@ggzlimburg.be
DTSTART:20260911T070000Z
DTEND:20260911T100000Z
DTSTAMP:20260327T151151Z
URL:https://ggzlimburg.be/events/20260911-consult-kopp-koap/
SUMMARY:20260911 Consult KOPP/KOAP
DESCRIPTION:Locatie: online - je ontvangt op de dag zelf een link om deel t
 e nemen.\nUur: tussen 9u00-12u00\n\nDatum: Vrijdag 11 september 2026\n\nIn
 houd:\nElke maand houdt een KOPP/KOAP referent een consult. Stuur ons op v
 oorhand een mail\, zodat we een afspraak op maat kunnen plannen.\n\nSpreke
 rs: Inez Vandewinkel en Ellen Gibney\n\nPrijs: deze intervisie is gratis
 \n\nAandacht: Als je een casus hebt\, mail naar Ellen.gibney@integra-limb
 urg.be. Zo kan de lesgever zich al voorbereiden.\n\nInschrijven:20260911 C
 onsult KOPP/KOAP - Formulier invullen
CATEGORIES:0 - 18 jaar,15 - 23 jaar,Leeftijd,Vormingen,Vormingen-login
LOCATION:https://forms.office.com/e/kCDf3PxDz3
END:VEVENT
END:VCALENDAR