BEGIN:VCALENDAR
VERSION:2.0
PRODID:-//wp-events-plugin.com//6.6.4.4//EN
BEGIN:VEVENT
UID:1558@ggzlimburg.be
DTSTART:20260918T070000Z
DTEND:20260918T100000Z
DTSTAMP:20260327T143650Z
URL:https://ggzlimburg.be/events/20260918-provinciale-wg-kopp-koap/
SUMMARY:20260918 Provinciale WG KOPP/KOAP
DESCRIPTION:Inhoud van de intervisie: De provinciale werkgroep KOPP/KOAP k
 omt 4x per jaar samen om stil te staan bij actuele ontwikkelingen op het g
 ebied van kinderen van ouders met psychische en/of verslavingsproblemen. T
 ijdens de bijeenkomsten bespreken we nieuwe didactische materialen\, recen
 te wetenschappelijke inzichten en relevante methodieken die ingezet kunnen
  worden in de praktijk. Daarnaast nemen we telkens een concrete KOPP/KOAP-
 casus onder de loep\, om samen te reflecteren\, kennis te delen en van elk
 aar te leren.\nDatum: Maandag  18 september 2026\n\nUur: 9u00-12u00\n\nF
 ormat: Werkgroep en Intervisie\n\nLocatie: Sociaal Huis Portavida\, Welzij
 nscampus 11\, 3600 Genk.\n\nSpreker: Ward Campo\, Inez Vandewinkel en Ell
 en Gibney\n\nPrijs: gratis\n\nExtra info: Voorwaarde is dat je de 3-daag
 se KOPP/KOAP gevolgd hebt (of zal volgen in het komende jaar)\n\nInschrijv
 en: 20260918 Provinciale WG KOPP/KOAP - Formulier invullen\n\nHeb je nog v
 ragen? Neem contact met Ward Campo (ward.campo@ligant.be). Het aantal i
 nschrijvingen is beperkt.\n\n&nbsp\;
CATEGORIES:0 - 18 jaar,15 - 23 jaar,Leeftijd,Vormingen,Vormingen-login
LOCATION:Sociaal Huis Portavida\, Welzijnscampus 11\, Genk\, 3600\, België
GEO:50.967325;5.510364
X-APPLE-STRUCTURED-LOCATION;VALUE=URI;X-ADDRESS=Welzijnscampus 11\, Genk\, 
 3600\, België;X-APPLE-RADIUS=100;X-TITLE=Sociaal Huis Portavida:geo:50.96
 7325,5.510364
END:VEVENT
END:VCALENDAR