BEGIN:VCALENDAR
VERSION:2.0
PRODID:-//wp-events-plugin.com//6.6.4.4//EN
BEGIN:VEVENT
UID:1541@ggzlimburg.be
DTSTART:20261013T073000Z
DTEND:20261013T093000Z
DTSTAMP:20260330T115518Z
URL:https://ggzlimburg.be/events/20261013-trauma-en-het-jonge-kind/
SUMMARY:20261013 Trauma en het jonge kind
DESCRIPTION:Vorming: Trauma en het jonge kind\n\nIn de eerste levensjaren k
 unnen ingrijpende of chronisch stressvolle ervaringen een sterke impact he
 bben op de ontwikkeling van gehechtheid\, emotieregulatie en de ouder-kind
  relatie. Voor eerstelijnspsychologen die werken met jonge kinderen is het
  daarom belangrijk om signalen van traumatische stress en relationele onve
 iligheid vroegtijdig te herkennen.\n\nDeze vorming biedt inzicht in hoe vr
 oege traumatische ervaringen zich kunnen uiten bij kinderen van 0 tot 36 m
 aanden en in de interactie tussen ouder en kind. Deelnemers krijgen prakti
 sche handvatten aangereikt om traumasensitief te werken binnen de eerste l
 ijn\, ouders te ondersteunen en – waar nodig – gericht door te verwijz
 en naar gespecialiseerde hulp.\n\nNa deze vorming:\n\n 	herkennen deelneme
 rs vroege signalen van traumatische stress en ontwikkelingstrauma bij jong
 e kinderen (0–36 maanden)\;\n 	begrijpen zij de impact van trauma op geh
 echtheid\, regulatie en ouder-kind interactie\;\n 	kunnen zij traumasensit
 ieve principes toepassen in hun contact met ouders en jonge kinderen\;\n 	
 weten zij wanneer en hoe gericht door te verwijzen naar passende hulpverle
 ning.\n\nDeze vorming wordt gegeven door Ingrid Delameillieure (Referent T
 rauma Ligant) en Annick Ulburghs (praktijk De Kiem).\n\nWaar: Sociaal Huis
  Portavida\, Welzijnscampus 11\, 3600 Genk\n\nVragen: Heb je nog vragen? D
 an kan je mailen naar Ingrid (ingrid.delameillieure@ligant.be) of naar Ann
 ick Ulburghs (annick@dekiempraktijk.be)\n\nDoelgroep: Deze vorming is geri
 cht op psychologen/orthopedagogen die werken met jonge kinderen.\n\nInsc
 hrijven: Kun je via deze link.
CATEGORIES:0 - 18 jaar,Leeftijd,Vormingen,Vormingen-login
LOCATION:Portavida\, Welzijnscampus 23 bus 21\, Genk\, Limburg\, 3600\, Bel
 gië
GEO:50.968549;5.510691
X-APPLE-STRUCTURED-LOCATION;VALUE=URI;X-ADDRESS=Welzijnscampus 23 bus 21\, 
 Genk\, Limburg\, 3600\, België;X-APPLE-RADIUS=100;X-TITLE=Portavida:geo:5
 0.968549,5.510691
END:VEVENT
END:VCALENDAR