BEGIN:VCALENDAR
VERSION:2.0
PRODID:-//wp-events-plugin.com//6.6.4.4//EN
BEGIN:VEVENT
UID:1495@ggzlimburg.be
DTSTART:20260407T070000Z
DTEND:20260407T083000Z
DTSTAMP:20260303T151845Z
URL:https://ggzlimburg.be/events/4-daagse-groepstraining-ninja-power-paasv
 akantie-6-7-jarigen-1ste-2de-leerjaar/
SUMMARY:4 daagse groepstraining Ninja Power Paasvakantie: 6-7 jarigen\, 1st
 e-2de leerjaar
DESCRIPTION:Wil jij meer zelfvertrouwen\, veerkracht en hou je van de natuu
 r. Dan is dit groepsaanbod iets voor jou!\n\nWe gaan samen in het bos spel
 letjes doen en leuke activiteiten ondernemen om ons zelfvertrouwen een boo
 st te geven.\nDe training gaat door bij 5 deelnemers.\n\n\nHet groepsaanbo
 d gaat in de paasvakantie 7\,8\,9 en 10 april (dinsdag - vrijdag)\n\nUre
 n:\n\nGroep 1: (6-7 jarigen\, 1ste-2de leerjaar): 9u-10u30  \nGroep 2: 
 (8-9-10 jarigen\, 3de - 5de leerjaar): 11u-12u30\n\nLocatie: Joekelbos S
 peeltuinstraat\, 3660 Oudsbergen\n\nInschrijven kan via deze link.\n\n
ATTACH;FMTTYPE=image/jpeg:https://ggzlimburg.be/app/uploads/2026/02/Paasva
 kantie-26-Ninja-Power-Chris-en-Emilie.png
CATEGORIES:0 - 18 jaar,Groepsaanbod,Leeftijd
LOCATION:Joekelbos Oudsbergen\, Speeltuinstraat\, Oudsbergen\, België\, 36
 60\, België
GEO:51.053898;5.581071
X-APPLE-STRUCTURED-LOCATION;VALUE=URI;X-ADDRESS=Speeltuinstraat\, Oudsberge
 n\, België\, 3660\, België;X-APPLE-RADIUS=100;X-TITLE=Joekelbos Oudsberg
 en:geo:51.053898,5.581071
END:VEVENT
END:VCALENDAR