BEGIN:VCALENDAR
VERSION:2.0
PRODID:-//wp-events-plugin.com//6.6.4.4//EN
BEGIN:VEVENT
UID:1247@ggzlimburg.be
DTSTART:20260309T133000Z
DTEND:20260309T150000Z
DTSTAMP:20251218T062029Z
URL:https://ggzlimburg.be/events/act-voor-veerkracht-18/
SUMMARY:ACT voor Veerkracht
DESCRIPTION:Een training bij Kurago is persoonlijk\, praktisch en bovenal p
 lezierig! Het doel is dat jij als deelnemer na de training de handvaten he
 bt om meer veerkrachtig in het leven te staan.  \n\nWe starten met een i
 ntake om je hulpvraag te verhelderen opdat jij het maximale uit de groepss
 essies zou kunnen halen.  \n\nTijden de 6 sessies komen volgende onderwe
 rpen aan bod:  \n\n 	Wat is ACT (Acceptance and Commitment Therapy)?  
 \n\n\n 	Waar wil je naar toe in het leven?  \n\n\n 	Hoe kan je jouw waar
 den als levenskompas gebruiken?  \n\n\n 	Hoe kan je beter omgaan met las
 tige gevoelens en gedachten?  \n\n\n 	Hoe kan je meer in het hier en nu 
 leven?  \n\nEnkele weken na de laatste groepssessie sluiten we af met ee
 n individueel opvolggesprek om jou verder te ondersteunen om de geleerde v
 aardigheden zo goed mogelijk in je leven toe te kunnen passen. \n\nPrakti
 sche info \n\nWanneer: 9/3\, 16/3\, 23/3\, 30/3\, 13/4 en 20/4 van 15u30
 -17u00\n\nWaar: Kurago Borgloon (Tongersestraat 16\, 3840 Tongeren-Borgloo
 n)\n\nMeer info en inschrijven: ACT voor Veerkracht - overdag | KURAGO - 2
 .0\n\nKostprijs: Bij het kiezen van dit ticket\, betaal je voor 6 sessies 
 een totaal van 15 euro. De prijs van het intake- en opvolggesprek is niet 
 inbegrepen in deze prijs.* \n\n*Eventuele intake- en opvolggesprek zijn a
 an het tarief van 0-11 euro per sessie\, afhankelijk van jouw individuele 
 situatie. Dit groepsaanbod wordt ondersteund door de netwerken geestelijke
  gezondheidszorg Limburg\, en betaalbaar aangeboden dankzij financiële tu
 ssenkomst van de FOD Volksgezondheid en het RIZIV. 
CATEGORIES:18 jaar en ouder,Groepsaanbod,Leeftijd
LOCATION:Kurago Borgloon\, Tongersestraat 16\, Borgloon\, 3840\, België
GEO:50.802149;5.347337
X-APPLE-STRUCTURED-LOCATION;VALUE=URI;X-ADDRESS=Tongersestraat 16\, Borgloo
 n\, 3840\, België;X-APPLE-RADIUS=100;X-TITLE=Kurago Borgloon:geo:50.80214
 9,5.347337
END:VEVENT
END:VCALENDAR