BEGIN:VCALENDAR
VERSION:2.0
PRODID:-//wp-events-plugin.com//6.6.4.4//EN
BEGIN:VEVENT
UID:1500@ggzlimburg.be
DTSTART:20260424T141500Z
DTEND:20260424T154500Z
DTSTAMP:20260303T152737Z
URL:https://ggzlimburg.be/events/assertiviteitstraining-voor-jongeren-tuss
 en-12-en-14-jaar-3/
SUMMARY:Assertiviteitstraining voor jongeren tussen 12 en 14 jaar
DESCRIPTION:Assertiviteitstraining voor jongeren (12-14 jaar) \n\nVind je h
 et soms moeilijk om je mening te zeggen? Zeg je wel eens “ja” terwijl 
 je eigenlijk “nee” bedoelt? Of heb je gedoe met vrienden en weet je ni
 et goed hoe te reageren? Je bent écht niet de enige!\n\nIn deze actieve 
 en ervaringsgerichte groepstraining voor jongeren van 12-14 jaar leer je d
 uidelijk en respectvol voor jezelf opkomen: op school\, onder vrienden en 
 online.\n\nWe kiezen daarbij voor ervaringsgericht leren: niet alleen prat
 en\, maar vooral doen en ervaren in een kleine en veilige groep. We werken
  met actieve en creatieve werkvormen en een mix van binnen- en buitenopdra
 chten. De rustige\, groene omgeving van Villa Vonk\, met paarden en andere
  therapiediertjes\, helpt jongeren om te ontspannen en tot rust te komen\,
  zodat hoofd en lichaam weer beter kunnen samenwerken.\n\nWaarom meedoen?\
 n\n 	Sterker en zelfverzekerder in je schoenen staan\n 	Duidelijk je grenz
 en leren aangeven\n 	Meer grip krijgen op lastige situaties\n 	Respectvol 
 leren opkomen voor jezelf\n\nBegeleiding:\n\nDeze groepstraining wordt beg
 eleid door twee klinisch psychologen: Tine Wastiels en Tine Smets.\n\nWann
 eer? \n\nVijf sessies op vrijdagen van 16u15-17u45 op volgende data:\n\n 	
 24/4/’26\n 	8/5/’26\n 	22/5/’26\n 	5/6/’26\n 	19/6/’26\n\nWaar? 
 \n\nDe training gaat door in Villa Vonk\, Reitje 9\, Diepenbeek (binnen- e
 n buitenpraktijk).\n\nMeer info en inschrijven:\n\nVia QR-code op flyer of
  bij Tine Wastiels - 0497 12 86 13 - tine.wastiels@vonkconsult.be of Tine 
 Smets - 0474 95 76 76 - info@beestigbuiten.be\n\nGratis intakegesprek en d
 eelname dankzij de netwerken Geestelijke Gezondheid Limburg en FOD Volksge
 zondheid.
ATTACH;FMTTYPE=image/jpeg:https://ggzlimburg.be/app/uploads/2026/03/1-1.pn
 g
CATEGORIES:0 - 18 jaar,Groepsaanbod,Leeftijd
LOCATION:Villa Vonk\, Reitje 9\, Diepenbeek\, Limburg/België\, 3590\, Diep
 enbeek\, België
X-APPLE-STRUCTURED-LOCATION;VALUE=URI;X-ADDRESS=Reitje 9\, Diepenbeek\, Lim
 burg/België\, 3590\, Diepenbeek\, België;X-APPLE-RADIUS=100;X-TITLE=Vill
 a Vonk:geo:0,0
END:VEVENT
END:VCALENDAR