BEGIN:VCALENDAR
VERSION:2.0
PRODID:-//wp-events-plugin.com//6.6.4.4//EN
BEGIN:VEVENT
UID:1575@ggzlimburg.be
DTSTART:20260422T143000Z
DTEND:20260422T160000Z
DTSTAMP:20260410T044258Z
URL:https://ggzlimburg.be/events/boost-je-brein/
SUMMARY:Boost je brein!
DESCRIPTION:⚡ BOOST JE BREIN\n\nMeer rust in je hoofd. Meer grip op je st
 ress. Slimmer studeren met vertrouwen.\n\n🌿 Wat is dit groepsprogramma?
 \n\nVoel je dat stress het soms overneemt tijdens het studeren of richting
  examens? Dat je veel in je hoofd zit\, moeilijk kan focussen of begint te
  twijfelen aan jezelf?\n\nIn Boost je Brein leer je hoe je je brein beter 
 begrijpt én hoe je er anders mee kan omgaan. In vier interactieve sessies
  combineren we psychologische inzichten met praktische oefeningen die je m
 eteen kan toepassen.\n\nJe ontdekt hoe stress werkt (en hoe het je soms ze
 lfs helpt)\, hoe je piekergedachten kan doorbreken\, hoe je efficiënter s
 tudeert én hoe je meer rust en zelfvertrouwen opbouwt.\n\n👉 Geen droge
  theorie\, maar doen\, ervaren en toepassen\n\n👉 Gericht op meer focus\
 , minder stress en sterker in je examens staan\n\n📅 Wanneer?\n\n 	22 ap
 ril\n 	29 april\n 	6 mei\n 	13 mei\n\n🕟 Telkens van 16u30 tot 18u00\n\n
 📍 Waar?\n\nHalmaalhuis\n\nHalmaalweg 4\n\nSint-Truiden\n\n👥 Voor wie
 ?\n\nVoor jongeren uit het 4e\, 5e en 6e middelbaar die:\n\n 	last hebben 
 van stress of examenstress\n 	meer rust en focus willen\n 	efficiënter wi
 llen leren studeren\n 	sterker in hun schoenen willen staan\n\n👩‍⚕
 ️ Begeleiding\n\nDit groepsprogramma wordt begeleid door Anne Neyskens e
 n Hanne Daems\, twee ervaren klinisch psychologen en gedragstherapeuten\, 
 met expertise in het werken met jongeren rond stress\, veerkracht en studi
 emotivatie.\n\n💡 Klaar om je brein te boosten en met meer vertrouwen ri
 chting je examens te gaan?\n\nSchrijf je in via de QR code of via deze lin
 k en en ontdek wat voor jou werkt.
ATTACH;FMTTYPE=image/jpeg:https://ggzlimburg.be/app/uploads/2026/04/Boost-
 je-brein.jpeg
CATEGORIES:0 - 18 jaar,Groepsaanbod,Leeftijd
LOCATION:Halmaalhuis\, halmaalweg 4 \, sint truiden \, Limburg/belgie \, 38
 00\, België
GEO:50.814021;5.174957
X-APPLE-STRUCTURED-LOCATION;VALUE=URI;X-ADDRESS=halmaalweg 4 \, sint truide
 n \, Limburg/belgie \, 3800\, België;X-APPLE-RADIUS=100;X-TITLE=Halmaalhu
 is:geo:50.814021,5.174957
END:VEVENT
END:VCALENDAR