BEGIN:VCALENDAR
VERSION:2.0
PRODID:-//wp-events-plugin.com//6.6.4.4//EN
BEGIN:VEVENT
UID:1360@ggzlimburg.be
DTSTART:20260302T164500Z
DTEND:20260302T183000Z
DTSTAMP:20260126T074154Z
URL:https://ggzlimburg.be/events/draag-zorg-voor-zelfzorg-20/
SUMMARY:Draag Zorg voor zelfzorg
DESCRIPTION:ZORG VOOR ZELFZORG\n\nIn deze tijd van drukte\, gejaag en onsze
 lf voorbij lopen kennen we allemaal ‘stress’.\n\nMaar wist je dat er g
 oede en slechte ‘stress’ is? Of dat zelfzorg je stressbestendigheid ka
 n verhogen?\nDeze cursus maakt je wegwijs in stress en hoe het verband hou
 dt met angst\, assertiviteit\, piekeren en perfectionisme.\nHoog tijd voor
  meer zorg voor jouw zelfzorg!\n\nINFO\nDoor wie: Anneleen Peters en Maart
 je Janssen\, ELP psychologen\n\nDeelnameprijs: €12.50 voor 5 sessies (co
 nventie eerstelijnspsychologische zorg)\n\nWaar: Vita Humana\, Prinsenhofl
 aan 29\, 3680 Maaseik\n\nWanneer: Maandag 2/3\, 9/3\, 16/3\, 23/3 en 30/3 
 telkens van 18u45 tot20u30\n\nMeer info en inschrijven kan via info@manao.
 be of de QR code op de flyer
ATTACH;FMTTYPE=image/jpeg:https://ggzlimburg.be/app/uploads/2026/01/Draag-
 zorg-voor-zelfzorg-Maaseik-2026_compressed_page-0001-scaled.jpg
CATEGORIES:18 jaar en ouder,Groepsaanbod,Leeftijd
LOCATION:Vita Humana\, Prinsenhoflaan 29\, Maaseik\, België\, 3680\, Belgi
 ë
X-APPLE-STRUCTURED-LOCATION;VALUE=URI;X-ADDRESS=Prinsenhoflaan 29\, Maaseik
 \, België\, 3680\, België;X-APPLE-RADIUS=100;X-TITLE=Vita Humana:geo:0,0
END:VEVENT
END:VCALENDAR