BEGIN:VCALENDAR
VERSION:2.0
PRODID:-//wp-events-plugin.com//6.6.4.4//EN
BEGIN:VEVENT
UID:1413@ggzlimburg.be
DTSTART:20260326T070000Z
DTEND:20260326T083000Z
DTSTAMP:20260212T114424Z
URL:https://ggzlimburg.be/events/draag-zorg-voor-zelfzorg-21/
SUMMARY:Draag Zorg voor zelfzorg
DESCRIPTION:\n\n\n\nIn deze tijd van drukte\, gejaag en onszelf voorbij lop
 en kennen we allemaal ‘stress’.\n\nMaar wist je dat er goede en slecht
 e ‘stress’ is? Of dat zelfzorg je stressbestendigheid kan verhogen?\nD
 eze cursus maakt je wegwijs in stress en hoe het verband houdt met angst\,
  assertiviteit\, piekeren en perfectionisme.\nInschrijven via deze link\n\
 n\n\n
ATTACH;FMTTYPE=image/jpeg:https://ggzlimburg.be/app/uploads/2026/02/Draag-
 zorg-voor-zelfzorg-Bree.png
CATEGORIES:18 jaar en ouder,Groepsaanbod,Leeftijd
LOCATION:Practimed\, De houborn 44\, Bree\, 3960\, België
X-APPLE-STRUCTURED-LOCATION;VALUE=URI;X-ADDRESS=De houborn 44\, Bree\, 3960
 \, België;X-APPLE-RADIUS=100;X-TITLE=Practimed:geo:0,0
END:VEVENT
END:VCALENDAR