BEGIN:VCALENDAR
VERSION:2.0
PRODID:-//wp-events-plugin.com//6.6.4.4//EN
BEGIN:VEVENT
UID:1502@ggzlimburg.be
DTSTART:20260401T150000Z
DTEND:20260401T163000Z
DTSTAMP:20260305T135417Z
URL:https://ggzlimburg.be/events/draag-zorg-voor-zelfzorg-23/
SUMMARY:Draag zorg voor zelfzorg
DESCRIPTION:\nDraag zorg voor zelfzorg\n\n\nIn deze tijd van drukte\, gejaa
 g en onszelf voorbij lopen\, kennen we allemaal 'stress'. Maar wist je dat
  er gezonde en ongezonde stress is? Of dat zelfzorg je stressbestendigheid
  kan verhogen? \n\nDeze cursus van 5 sessies maakt je wegwijs in stress en
  geeft je handvaten om je welbevinden te verbeteren. Thema's als angst\, p
 iekeren en assertiviteit komen hierbij ook aan bod. \n\nDeelnameprijs = 12
 .50€.\n\nInschrijflink\n
ATTACH;FMTTYPE=image/jpeg:https://ggzlimburg.be/app/uploads/2026/03/Draag-
 zorg-voor-zelfzorg-algemeen-002.png
CATEGORIES:18 jaar en ouder,Groepsaanbod,Leeftijd
LOCATION:Sociaal Huis\, Welzijnscampas 11\, Genk\, 3600\, België
GEO:50.967325;5.510364
X-APPLE-STRUCTURED-LOCATION;VALUE=URI;X-ADDRESS=Welzijnscampas 11\, Genk\, 
 3600\, België;X-APPLE-RADIUS=100;X-TITLE=Sociaal Huis:geo:50.967325,5.510
 364
END:VEVENT
END:VCALENDAR