BEGIN:VCALENDAR
VERSION:2.0
PRODID:-//wp-events-plugin.com//6.6.4.4//EN
BEGIN:VEVENT
UID:1490@ggzlimburg.be
DTSTART:20260407T083000Z
DTEND:20260407T100000Z
DTSTAMP:20260227T072853Z
URL:https://ggzlimburg.be/events/driedaagse-weerbaarheidstraining-4/
SUMMARY:Driedaagse weerbaarheidstraining
DESCRIPTION:De driedaagse 'Rots en Water' is een weerbaarheids- en sociale 
 vaardigheidstraining voor kinderen in het 4de\, 5de en 6de leerjaar lager 
 onderwijs. De training wordt gegeven in kleine groepjes\, zodat elk kind d
 e nodige aandacht en begeleiding krijgt. Kinderen leren op een speelse en 
 actieve manier omgaan met gevoelens\, grenzen en groepsdruk. Het helpt hen
  bewuster keuzes maken in verschillende situaties\, waardoor ze meer zelfv
 ertrouwen opbouwen en respectvol met zichzelf en anderen leren omgaan.\n\n
 Inschrijven en info bij julie.michels@hotmail.com
ATTACH;FMTTYPE=image/jpeg:https://ggzlimburg.be/app/uploads/2026/02/Weerba
 arheidstraining.png
CATEGORIES:0 - 18 jaar,Groepsaanbod,Leeftijd
LOCATION:Campus O3 Noord\, Minderbroederstraat 6\, Genk\, 3600\, België
GEO:51.000067;5.50878
X-APPLE-STRUCTURED-LOCATION;VALUE=URI;X-ADDRESS=Minderbroederstraat 6\, Gen
 k\, 3600\, België;X-APPLE-RADIUS=100;X-TITLE=Campus O3 Noord:geo:51.00006
 7,5.50878
END:VEVENT
END:VCALENDAR