BEGIN:VCALENDAR
VERSION:2.0
PRODID:-//wp-events-plugin.com//6.6.4.4//EN
BEGIN:VEVENT
UID:1513@ggzlimburg.be
DTSTART:20260611T073000Z
DTEND:20260611T103000Z
DTSTAMP:20260320T162308Z
URL:https://ggzlimburg.be/events/een-derde-in-de-werkruimte-hoe-doe-ik-dat
 /
SUMMARY:Een derde in de werkruimte\, hoe doe ik dat?
DESCRIPTION:Zowel tijdens een intakegesprek als in de loop van een begeleid
 ing kan zowel cliënt als psycholoog het zinvol vinden een derde mee uit t
 e nodigen voor gesprek bijvoorbeeld een partner\, een ouder\, een broer of
  zus\, een vriend of vriendin... \n\n\n 	Maar hoe doen we dat\, een derde
  betrekken?\n 	Vanuit welke invalshoeken en hypotheses?\n 	Hoe nodigen we 
 uit?\n 	Hoe bereiden we zo'n gesprek voor en hoe pakken we het aan...?\n\n
 Tijdens deze halve opleidingsdag zullen we jullie vanuit een systeemtheore
 tische invalshoek meenemen in deze vraagstukken en jullie handvatten aanre
 iken.\n\n\nDatum: Donderdag 11/06/2026 van 9u30-12u30\n\nLocatie: Provi
 nciehuis\, Haspengouwzaal\, Universiteitslaan 1\, 3500 Hasselt\n\nVoor wie
 ? Deze vorming richt zich tot klinisch psychologen en orthopedagogen werk
 zaam in de eerste lijn die werken met de doelgroep transitieleeftijd\, vo
 lwassenen en ouderen.\n\nDoor wie? Cox Mieke en Neyens Kelly zijn psychol
 oog en systeemtherapeut en werken in een groepspraktijk vanuit het systeem
 theoretische kader rond verschillende thema's en met verschillende doelgro
 epen.\n\nKostprijs:  30€ voor niet-geconventioneerde KP/KO en andere zo
 rgprofessionals\, gratis voor geconventioneerde KP/KO\n\nInschrijven: 2026
 0611 Een derde in de werkruimte\, hoe doe ik dat? - Formulier invullen\n\n
 Vragen? Neem contact met Karen via mail: karen.beuckx@noorderhart.be\n\n&
 nbsp\;
CATEGORIES:Vormingen,Vormingen-login
LOCATION:Provinciehuis Hasselt\, Universiteitslaan 1\, Hasselt\, België\, 
 3500\, België
GEO:50.930455;5.362879
X-APPLE-STRUCTURED-LOCATION;VALUE=URI;X-ADDRESS=Universiteitslaan 1\, Hasse
 lt\, België\, 3500\, België;X-APPLE-RADIUS=100;X-TITLE=Provinciehuis Has
 selt:geo:50.930455,5.362879
END:VEVENT
END:VCALENDAR