BEGIN:VCALENDAR
VERSION:2.0
PRODID:-//wp-events-plugin.com//6.6.4.4//EN
BEGIN:VEVENT
UID:1473@ggzlimburg.be
DTSTART:20260415T101500Z
DTEND:20260415T114500Z
DTSTAMP:20260224T142058Z
URL:https://ggzlimburg.be/events/emotieregulatie-voor-kinderen-een-tweedaa
 gs-groepsaanbod-voor-kinderen-van-het-1e-2e-en-3e-leerjaar-paasvakantie-26
 /
SUMMARY:Emotieregulatie voor kinderen – een tweedaags groepsaanbod voor k
 inderen van het 1e\, 2e en 3e leerjaar (Paasvakantie ‘26)
DESCRIPTION:Emotieregulatie voor kinderen – een tweedaags groepsaanbod vo
 or kinderen van het 1e\, 2e en 3e leerjaar (Paasvakantie ‘26)\n\nIs jouw
  kind vaak boos\, bang of verdrietig? Blijft jouw kind lang hangen in emot
 ies? Tijdens deze tweedaagse training leren kinderen op een speelse en cre
 atieve manier hun gevoelens herkennen en leren ze manieren aan om deze te 
 reguleren.\n\nDe training is bedoeld voor kinderen van het 1e\, 2e en 3e l
 eerjaar die willen leren hoe ze met hun gevoelens kunnen omgaan. De groep 
 wordt begeleid door twee klinisch psychologen: Tine Wastiels en Tine Smets
 .\n\nData Paasvakantie ‘26: de sessies vinden plaats op woensdag 15 en d
 onderdag 16 april 2026 telkens van 12u15-13u45.\n\nLocatie: Huis van het K
 ind Diepenbeek\, Dorpsstraat 11\n\nGratis intakegesprek en deelname.\n\nMe
 er info: mail: tine.wastiels@vonkconsult.be of telefonisch: +32 497128613\
 n\nInschrijven kun je hier.
ATTACH;FMTTYPE=image/jpeg:https://ggzlimburg.be/app/uploads/2026/02/affich
 e-Pasen-GGZ-1.png
CATEGORIES:0 - 18 jaar,Groepsaanbod,Leeftijd
LOCATION:Huis van het Kind Diepenbeek\, Dorpstraat 11\, Diepenbeek\, 3590\,
  België
GEO:50.908507;5.420506
X-APPLE-STRUCTURED-LOCATION;VALUE=URI;X-ADDRESS=Dorpstraat 11\, Diepenbeek\
 , 3590\, België;X-APPLE-RADIUS=100;X-TITLE=Huis van het Kind Diepenbeek:g
 eo:50.908507,5.420506
END:VEVENT
END:VCALENDAR