BEGIN:VCALENDAR
VERSION:2.0
PRODID:-//wp-events-plugin.com//6.6.4.4//EN
BEGIN:VEVENT
UID:1364@ggzlimburg.be
DTSTART:20260206T080000Z
DTEND:20260206T093000Z
DTSTAMP:20260126T075840Z
URL:https://ggzlimburg.be/events/emoties-onder-de-loep-emotieregulatie-out
 door/
SUMMARY:Emoties onder de loep! Emotieregulatie OUTDOOR
DESCRIPTION:In deze 10-delige reeks rond emotieregulatie trekken we naar bu
 iten.\n\nWe verbinden met onszelf\, de ander\, de natuur om dichter bij on
 szelf te komen.  Samen doorvoelen we onze emoties en ervaren we verschill
 ende technieken om ze te hanteren. Om niet overspoeld te worden\, om beter
  te kunnen reguleren.\n\nStartdatum: 6/03/2026 - 10:00\n\nLocatie: Zorgboe
 rderij BelleVue Hoeve Kortessem\n\nWat leer je?\n\n 	reguleren\n 	begrijpe
 n\n 	anticiperen\n\nBelangrijk: deze sessies gaan buiten door. Draag gepa
 ste kledij en stevig schoeisel!\n\nInschrijven: www.psychologica.be
ATTACH;FMTTYPE=image/jpeg:https://ggzlimburg.be/app/uploads/2026/01/Emotie
 -outdoor-kortessem.png
CATEGORIES:18 jaar en ouder,Groepsaanbod,Leeftijd
LOCATION:Hoeve BelleVue\, Opeindestraat\, Kortessem\, Limburg\, 3720\, limb
 urg\, België
X-APPLE-STRUCTURED-LOCATION;VALUE=URI;X-ADDRESS=Opeindestraat\, Kortessem\,
  Limburg\, 3720\, limburg\, België;X-APPLE-RADIUS=100;X-TITLE=Hoeve Belle
 Vue:geo:0,0
END:VEVENT
END:VCALENDAR