BEGIN:VCALENDAR
VERSION:2.0
PRODID:-//wp-events-plugin.com//6.6.4.4//EN
BEGIN:VEVENT
UID:1397@ggzlimburg.be
DTSTART:20260416T101500Z
DTEND:20260416T114500Z
DTSTAMP:20260212T094540Z
URL:https://ggzlimburg.be/events/gevoelenshelden-4-8-jaar-12u15-13u45/
SUMMARY:Gevoelenshelden (4-8 jaar) 12u15-13u45
DESCRIPTION:Op een speelse en laagdrempelige manier leren we kinderen van 4
  - 8 jaar over gevoelens. In kleine groepjes van 6 kinderen gaan we aan de
  slag met evidence based methodieken om meer rust te krijgen.\nDonderdag 1
 6 april\n\n\n 	12u15 – 13u45\n 	Theorie Eurekacirkel\n 	Welke gevoelens 
 zijn er? Hoe voel ik die in mijn lichaam?\n\nVrijdag 17 april\n\n\n 	12u15
  – 13u45\n 	Hoe kan ik mijn gevoelens uiten? Hoe kan ik weer tot rust ko
 men wanneer het me even overspoeld?\n\nInschrijven via linsey.tiri.anthe@o
 utlook.com\nLocatie: Siloam Zonhoven
ATTACH;FMTTYPE=image/jpeg:https://ggzlimburg.be/app/uploads/2026/01/Gevoel
 shelden.png
CATEGORIES:0 - 18 jaar,Groepsaanbod,Leeftijd
LOCATION:Siloam\, Holsteenweg 17 3520 Zonhoven\, Zonhoven\, België\, 3520\
 , Limburg\, België
X-APPLE-STRUCTURED-LOCATION;VALUE=URI;X-ADDRESS=Holsteenweg 17 3520 Zonhove
 n\, Zonhoven\, België\, 3520\, Limburg\, België;X-APPLE-RADIUS=100;X-TIT
 LE=Siloam:geo:0,0
END:VEVENT
END:VCALENDAR