BEGIN:VCALENDAR
VERSION:2.0
PRODID:-//wp-events-plugin.com//6.6.4.4//EN
BEGIN:VEVENT
UID:1336@ggzlimburg.be
DTSTART:20260414T100000Z
DTEND:20260414T113000Z
DTSTAMP:20260112T162739Z
URL:https://ggzlimburg.be/events/groeikracht-kinderen-van-6-8-jaar-leren-d
 e-kracht-van-een-groeimindset-kennen-5/
SUMMARY:Groeikracht! Kinderen van 6-8 jaar leren de kracht van een groeimin
 dset kennen
DESCRIPTION:Groeikracht! \n\nEen training voor kinderen tussen 6 &amp\; 8 j
 aar:\n\n 	die met een positieve mindset in het leven willen staan\n 	die s
 nel opgeven als iets tegen zit of niet van de eerste keer lukt\n 	die uitd
 agingen uit de weg gaan\n 	die foutjes maken heel erg vinden\n 	die de lat
  vaak hoog leggen voor zichzelf\n\nEen groeimindset helpt kinderen om meer
  in zichzelf te geloven.\n\nKinderen met een groeimindset durven uitdaging
 en aan te gaan\, nieuwe dingen te proberen en door te zetten bij tegenslag
 en. Ze leren dat fouten maken een onderdeel is van het leerproces en dat z
 e zelf in staat zijn om problemen op te lossen.\n\nMeer info:\n\nhttps://b
 eestigbuiten.be/\n\nInschrijven via:\ninfo@beestigbuiten.be\nof\nliesbethg
 eerkens@outlook.com\nDit groepsaanbod is gratis en valt binnen de conventi
 e Eerstelijnspsychologische zorg. Het aanbod wordt ondersteund door de net
 werken Geestelijke Gezondheidszorg Limburg. Meer info op www.ggzlimburg.be
 \n&nbsp\;
ATTACH;FMTTYPE=image/jpeg:https://ggzlimburg.be/app/uploads/2026/01/WhatsA
 pp-Image-2026-01-10-at-19.59.38-1.jpeg
CATEGORIES:0 - 18 jaar,Groepsaanbod,Leeftijd
LOCATION:Beestig Buiten\, Kleistraat 6\, Beverst\, 3740\, België
GEO:50.889423;5.474716
X-APPLE-STRUCTURED-LOCATION;VALUE=URI;X-ADDRESS=Kleistraat 6\, Beverst\, 37
 40\, België;X-APPLE-RADIUS=100;X-TITLE=Beestig Buiten:geo:50.889423,5.474
 716
END:VEVENT
END:VCALENDAR