BEGIN:VCALENDAR
VERSION:2.0
PRODID:-//wp-events-plugin.com//6.6.4.4//EN
BEGIN:VEVENT
UID:1348@ggzlimburg.be
DTSTART:20260414T170000Z
DTEND:20260701T183000Z
DTSTAMP:20260414T124707Z
URL:https://ggzlimburg.be/events/groepsaanbod-eetstoornissen/
SUMMARY:Groepsaanbod eetstoornissen  (psychologe en ervaringsdeskundige)
DESCRIPTION:Je bent GOED genoeg\, SLIM genoeg\, MOOI genoeg en STERK genoeg
 . Nu mag je dat eindelijk zelf ook geloven!\n\nWAT KAN IK VERWACHTEN?\n\n
 Groepstherapie bij eetstoornissen kan een waardevolle aanvulling zijn op i
 ndividuele therapie door het principe van “leren van elkaar” en “elk
 aar steunen”.\n\nTijdens de groepssessies wordt er rond verschillende th
 ema’s gewerkt.\n\nEr worden methodieken gebruikt uit de:\n\n 	positieve 
 psychologie\n 	oplossingsgerichte psychologie\n 	cognitieve gedragstherapi
 e\n\nTHEMA’s\n\n 	psycho-educatie eetstoornissen\n 	inzichten en motivat
 ie\n 	zelfbeeld\n 	perfectionisme\n 	zelfliefde\n 	gevoelens uiten\n 	soci
 ale vaardigheden\n 	leren ontspannen\n\nDOELGROEP\n\nJongeren vanaf 14 jaa
 r\,  gediagnostiseerd met een eetstoornis\n\nFOLDER\n\nDownload via deze 
 link de folder\, verspreiden mag.\n\nAANMELDEN\n\nInteresse of verdere vra
 gen? Stuur een mailtje naar info@psychologesara.be en/of katoschepers2004
 @icloud.com of bel naar 0485/870999.\n\nHierna volgt er een telefonisch in
 takegesprek om de hulpvraag te verhelderen en doelen te bepalen om mee aan
  de slag te gaan.\n\nwww.psychologesara.be\n\n&nbsp\;
ATTACH;FMTTYPE=image/jpeg:https://ggzlimburg.be/app/uploads/2026/01/Folder
 -groepsaanbod-2-pdf.jpg
CATEGORIES:0 - 18 jaar,15 - 23 jaar,Groepsaanbod,Leeftijd
LOCATION:Regio Beringen\, locatie volgt\, Beringen\, 3580\, België
X-APPLE-STRUCTURED-LOCATION;VALUE=URI;X-ADDRESS=locatie volgt\, Beringen\, 
 3580\, België;X-APPLE-RADIUS=100;X-TITLE=Regio Beringen:geo:0,0
END:VEVENT
END:VCALENDAR