BEGIN:VCALENDAR
VERSION:2.0
PRODID:-//wp-events-plugin.com//6.6.4.4//EN
BEGIN:VEVENT
UID:1400@ggzlimburg.be
DTSTART:20260327T080000Z
DTEND:20260327T100000Z
DTSTAMP:20260212T122936Z
URL:https://ggzlimburg.be/events/het-pauze-pad/
SUMMARY:Het Pauze Pad
DESCRIPTION:Loop je vast in je studiekeuze\, schooltraject of toekomstplann
 en? Weet je niet meer welke richting je uit wilt? Voel je de druk om te ki
 ezen terwijl alles wazig aanvoelt? Je bent niet de enige.\n\n 	Pauzepad is
  een traject van 5 weken waarbij we samen de natuur in trekken. \n 	Al wa
 ndelend in het Wild en Wandelpark nemen we letterlijk en figuurlijk afstan
 d van de drukte in je hoofd. \n 	We bewegen en staan tegelijkertijd stil.
  \n\nWat doen we?\n\nAan de hand van eenvoudige opdrachten en ervaringsle
 ren in de natuur proberen we wat helderheid te scheppen in de mist. Geen i
 ngewikkelde oefeningen of therapeutische gesprekken\, wel concrete ervarin
 gen die je meeneemt op het pad. Samen wandelen we\, wisselen ervaringen ui
 t\, en ontdekken dat anderen ook worstelen met dezelfde vragen en twijfels
 .\nEr is ruimte voor uitwisseling en herkenning. Soms helpt het gewoon om 
 te horen dat je niet de enige bent die strubbelt. En soms helpt het om eve
 n niet te praten\, maar gewoon te lopen.\n\nWaar? \n\nDuinenpark Molenhei
 de (Molenheidestraat 5\, Helchteren) als bereikbaarheid een probleem is\,
  zoeken we mee naar een oplossing.\n\nWie? \n\nNele Alders\, eerstelijnsp
 sycholoog en adventure therapeut\nArne Janssen\, outdoor begeleider\n\nWan
 neer? \n\n5 vrijdagen:    27 maart - 3 april - 10 april - 17 april - 25
  april.    telkens van 10-12u\n\nInschrijven: nele.alders@reiziger-ther
 apie.be of 0469 40 30 76\n\nMeer info op: www.reiziger-therapie.be
ATTACH;FMTTYPE=image/jpeg:https://ggzlimburg.be/app/uploads/2026/01/Het-pa
 uze-pad-2.png
CATEGORIES:18 jaar en ouder,Groepsaanbod,Leeftijd
LOCATION:Duinenpark Molenheide\, Molenheidestraat 5 \, Houthalen-Helchteren
 \, limburg\, 3530\, Midwest-Limburg\, België
X-APPLE-STRUCTURED-LOCATION;VALUE=URI;X-ADDRESS=Molenheidestraat 5 \, Houth
 alen-Helchteren\, limburg\, 3530\, Midwest-Limburg\, België;X-APPLE-RADIU
 S=100;X-TITLE=Duinenpark Molenheide:geo:0,0
END:VEVENT
END:VCALENDAR