BEGIN:VCALENDAR
VERSION:2.0
PRODID:-//wp-events-plugin.com//6.6.4.4//EN
BEGIN:VEVENT
UID:1499@ggzlimburg.be
DTSTART:20260310T153000Z
DTEND:20260310T170000Z
DTSTAMP:20260304T071607Z
URL:https://ggzlimburg.be/events/hoofd-in-balans-groepsprogramma-acceptanc
 e-and-commitment-therapie-voor-beginners/
SUMMARY:Hoofd in balans\, groepsprogramma Acceptance and Commitment Therapy
  voor beginners.
DESCRIPTION:Hoofd in Balans is een gedragstherapeutisch groepsprogramma geb
 aseerd op de krachtige principes van ACT (Acceptance &amp\; Commitment The
 rapy). In zes doelgerichte sessies trainen we je psychologische flexibilit
 eit – dé sleutel tot veerkracht en mentale weerbaarheid.\n\nLaat angst\
 , onzekerheid of sombere gevoelens niet langer bepalen hoe jij je leven le
 idt. Ontdek hoe je ruimte kunt maken voor moeilijke gedachten en emoties\,
  zonder dat ze je tegenhouden. Leer bewust kiezen voor de richting die éc
 ht bij jou past\, vanuit jouw waarden en wat voor jou belangrijk is.\n\nTi
 jdens het programma oefen je concrete\, toepasbare vaardigheden die je hel
 pen om steviger in je schoenen te staan. Stap voor stap werk je aan meer i
 nnerlijke rust\, helderheid en balans.\n\nKies niet langer voor overleven\
 , maar voor léven.\n\nBreng je hoofd in balans – en zet de beweging in 
 naar een waardegericht en veerkrachtig leven.\n\nDeze groep is volzet\, in
 dien je meer info wil kun je mailen naar Anne.
CATEGORIES:18 jaar en ouder,Groepsaanbod,Leeftijd
LOCATION:Buurthuis De Magneet\, Brigandstraat 1\, Hasselt\, 3500\, België
GEO:50.909784;5.321945
X-APPLE-STRUCTURED-LOCATION;VALUE=URI;X-ADDRESS=Brigandstraat 1\, Hasselt\,
  3500\, België;X-APPLE-RADIUS=100;X-TITLE=Buurthuis De Magneet:geo:50.909
 784,5.321945
END:VEVENT
END:VCALENDAR