BEGIN:VCALENDAR
VERSION:2.0
PRODID:-//wp-events-plugin.com//6.6.4.4//EN
BEGIN:VEVENT
UID:1481@ggzlimburg.be
DTSTART:20260603T160000Z
DTEND:20260603T190000Z
DTSTAMP:20260225T141012Z
URL:https://ggzlimburg.be/events/intervisie-kring-haspengouw-3-06/
SUMMARY:Intervisie Kring Haspengouw 3-06
DESCRIPTION:We willen de psychologen en orthopedagogen binnen regio Haspeng
 ouw op de verschillende lijnen samen brengen. Met als doel elkaar beter te
  vinden en samen intervisie te doen.\n\nData:\n\n 	Woensdag 03/06 om 18u00
  – 21u00\n 	Woensdag 30/09 om 18u00 – 21u00\n 	Woensdag 09/12 om 18u00
  – 21u00\n\n\nLocatie: Vergaderzaal "het overleg" in Zorggroep Myna\, H
 almaalweg 2\, 3800 Sint-Truiden (geef halmaalweg 3 als gps locatie).\n\nVo
 or wie? De intervisie richt zich op (geconventioneerde en niet-geconvent
 ioneerde) klinisch psychologen en orthopedagogen en telt mee voor één 
 van de drie verplichte intervisiemomenten.\n\nDoor wie? De intervisie wor
 dt gegeven door de kring Haspengouw in samenwerking met de eerstelijnspsy
 chologische conventie in Limburg. Anne Neyskens\, Griet Lucas en Yassira 
 Si Mhand zullen deze begeleiden.\n\nKostprijs? Gratis.\n\nInschrijven: V
 ia dit formulier\n\nVragen? Neem contact met psychologenkringhaspengouw@
 gmail.com.\n\n&nbsp\;\n\n&nbsp\;
CATEGORIES:Vormingen,Vormingen-login
LOCATION:Vergaderzaal "het Overleg" Zorggroep Myna\, Halmaalweg 2\, Sint-Tr
 uiden\, 3800\, België
X-APPLE-STRUCTURED-LOCATION;VALUE=URI;X-ADDRESS=Halmaalweg 2\, Sint-Truiden
 \, 3800\, België;X-APPLE-RADIUS=100;X-TITLE=Vergaderzaal \"het Overleg\" 
 Zorggroep Myna:geo:0,0
END:VEVENT
END:VCALENDAR