BEGIN:VCALENDAR
VERSION:2.0
PRODID:-//wp-events-plugin.com//6.6.4.4//EN
BEGIN:VEVENT
UID:1482@ggzlimburg.be
DTSTART:20260930T160000Z
DTEND:20260930T190000Z
DTSTAMP:20260225T141053Z
URL:https://ggzlimburg.be/events/intervisie-kring-haspengouw-30-09/
SUMMARY:Intervisie Kring Haspengouw 30-09
DESCRIPTION:We willen de psychologen en orthopedagogen binnen regio Haspeng
 ouw op de verschillende lijnen samen brengen. Met als doel elkaar beter te
  vinden en samen intervisie te doen.\n\nData:\n\n 	Woensdag 30/09 om 18u00
  – 21u00\n 	Woensdag 09/12 om 18u00 – 21u00\n\n\nLocatie: Vergaderzaa
 l "het overleg" in Zorggroep Myna\, Halmaalweg 2\, 3800 Sint-Truiden (geef
  halmaalweg 3 als gps locatie).\n\nVoor wie? De intervisie richt zich op
  (geconventioneerde en niet-geconventioneerde) klinisch psychologen en o
 rthopedagogen en telt mee voor één van de drie verplichte intervisiemom
 enten.\n\nDoor wie? De intervisie wordt gegeven door de kring Haspengouw 
 in samenwerking met de eerstelijnspsychologische conventie in Limburg. A
 nne Neyskens\, Griet Lucas en Yassira Si Mhand zullen deze begeleiden.\n\
 nKostprijs? Gratis.\n\nInschrijven: Via dit formulier\n\nVragen? Neem co
 ntact met psychologenkringhaspengouw@gmail.com.\n\n&nbsp\;\n\n&nbsp\;
CATEGORIES:Vormingen,Vormingen-login
LOCATION:Vergaderzaal "het Overleg" Zorggroep Myna\, Halmaalweg 2\, Sint-Tr
 uiden\, 3800\, België
X-APPLE-STRUCTURED-LOCATION;VALUE=URI;X-ADDRESS=Halmaalweg 2\, Sint-Truiden
 \, 3800\, België;X-APPLE-RADIUS=100;X-TITLE=Vergaderzaal \"het Overleg\" 
 Zorggroep Myna:geo:0,0
END:VEVENT
END:VCALENDAR