BEGIN:VCALENDAR
VERSION:2.0
PRODID:-//wp-events-plugin.com//6.6.4.4//EN
BEGIN:VEVENT
UID:1444@ggzlimburg.be
DTSTART:20260306T083000Z
DTEND:20260306T100000Z
DTSTAMP:20260216T111845Z
URL:https://ggzlimburg.be/events/je-stress-de-baas-veerkrachttraining-om-s
 tress-en-burn-out-te-voorkomen-3/
SUMMARY:Je stress de baas - veerkrachttraining om stress  en burn-out te vo
 orkomen
DESCRIPTION:Het lijkt erop dat stress en burn-out onoverkomelijk zijn en da
 t het ingebakken zit in ons leven en in onze job. Niets is minder waar: we
  hebben steeds de keuze hoe we hiermee omgaan. Want als je stress op een a
 ndere manier kan benaderen\, verandert ook de impact ervan op jezelf\; jou
 w gedrag\, gedachten en gevoelens. Door positief om te gaan met stress voe
 l je je terug relaxed en blijf je in balans\, ook op drukke (werk)dagen. 
 \n\nJe krijgt evidence-based technieken zoals ademhalingstechnieken\, ... 
 aangereikt die je kan integreren in jouw dagelijks (werk) leven. We gaan d
 ieper in op voeding\, sport (beweging)\, creatieve technieken/muziek en je
  slaap en je krijgt ook heel wat praktische tips in op komen voor jezelf m
 et respect voor de ander. \n\nKlik hier voor meer info en inschrijven.
CATEGORIES:18 jaar en ouder,Groepsaanbod,Leeftijd
LOCATION:groepspraktijk diathe\, luikersteenweg 359\, Hasselt\, België\, 3
 500\, België
X-APPLE-STRUCTURED-LOCATION;VALUE=URI;X-ADDRESS=luikersteenweg 359\, Hassel
 t\, België\, 3500\, België;X-APPLE-RADIUS=100;X-TITLE=groepspraktijk dia
 the:geo:0,0
END:VEVENT
END:VCALENDAR