BEGIN:VCALENDAR
VERSION:2.0
PRODID:-//wp-events-plugin.com//6.6.4.4//EN
BEGIN:VEVENT
UID:1388@ggzlimburg.be
DTSTART:20260413T070000Z
DTEND:20260413T083000Z
DTSTAMP:20260212T144010Z
URL:https://ggzlimburg.be/events/kinderen-in-balans-9u/
SUMMARY:Kinderen in balans  (groep 1 van 9u00 tot 10u30)
DESCRIPTION:\n\nWe willen allemaal dat onze kinderen opgroeien tot veerkrac
 htige volwassenen vol zelfvertrouwen. Wist je dat bewustzijn van je lichaa
 m en grip krijgen op je lijf hierin belangrijk zijn? Via relaxatie\, ademh
 alingstechnieken\, mindfulness en plezier boosten we veerkracht en zelfver
 trouwen.\n\nNa deze training kent je kind verschillende technieken om stev
 iger te blijven staan bij stress en nieuwe uitdagingen.\n\n\nHet aanbod wo
 rdt ondersteund door de netwerken geestelijke gezondheidszorg en valt binn
 en de conventie eerstelijnspsychologische hulpverlening. Het groepsaanbod 
 wordt verzorgd door eerstelijnspsychologen Annick Ulburghs en Nadine Vande
 wijer.\n\nInschrijven? Scan de QR code op de flyer.
ATTACH;FMTTYPE=image/jpeg:https://ggzlimburg.be/app/uploads/2026/01/Kinder
 en-in-balans-Versterk-veerkracht.png
CATEGORIES:0 - 18 jaar,Groepsaanbod,Leeftijd
LOCATION:Communicatiegroep\, Kramerslaan 15 5.3\, Hasselt\, 3500\, België
GEO:50.922875;5.320352
X-APPLE-STRUCTURED-LOCATION;VALUE=URI;X-ADDRESS=Kramerslaan 15 5.3\, Hassel
 t\, 3500\, België;X-APPLE-RADIUS=100;X-TITLE=Communicatiegroep:geo:50.922
 875,5.320352
END:VEVENT
END:VCALENDAR