BEGIN:VCALENDAR
VERSION:2.0
PRODID:-//wp-events-plugin.com//6.6.4.4//EN
BEGIN:VEVENT
UID:1291@ggzlimburg.be
DTSTART:20260429T073000Z
DTEND:20260429T093000Z
DTSTAMP:20260108T130826Z
URL:https://ggzlimburg.be/events/kom-uit-je-kop-van-razende-gedachten-naar
 -rust-in-het-leven-2/
SUMMARY:KOM UIT JE KOP!  Van razende gedachten naar rust in het leven
DESCRIPTION:Heb je het gevoel dat het nooit stil is in je hoofd? Je veel ge
 dachten hebt? Kom je moeilijk tot rust?...en wil je daar graag verandering
  in brengen?\nIn deze training leer je stapsgewijs aandachtig te zijn zond
 er te worden meegesleurd door je gedachten of gevoelens. Je leert beter om
  te gaan met de gevoelens en gedachten waarmee je worstelt door in het hed
 en te blijven\, zonder oordeel over die gevoelens en gedachten. Door met j
 e aandacht in het hier-en-nu te blijven\, ben je meer aanwezig in je leven
 . Dit helpt bijdragen aan je veerkracht en verbetert je algemeen welzijn o
 p verschillende domeinen.\n\nDe groep is gericht op volwassenen vanaf 18 j
 aar. Het is belangrijk – gegeven dat er bewegingsoefeningen aan bod kome
 n – dat je voldoende mobiel bent en goed van houding (zitten\, staan\, l
 iggen) kan wisselen.\n\nHet traject bestaat uit een intakegesprek\, 8 groe
 pssessies op woensdagvoormiddag vanaf april 2026 en een afrondend gesprek.
 \n\nMeer info over de groepstraining kan je terugvinden via https://www.c
 erebloom.be/groep--kom-uit-je-kop of neem contact om met Nathalie Claes vi
 a info@cerebloom.be\nDit groepsaanbod valt binnen de conventie Eerstelijns
 psychologische zorg en wordt ondersteund door de netwerken Geestelijke Gez
 ondheidszorg Limburg. Meer info op www.ggzlimburg.be\n&nbsp\;
CATEGORIES:18 jaar en ouder,Groepsaanbod,Leeftijd
LOCATION:Groepspraktijk Hal\, Weg naar de Grauwe Steen 5\, Heusden-Zolder\,
  3550\, België
X-APPLE-STRUCTURED-LOCATION;VALUE=URI;X-ADDRESS=Weg naar de Grauwe Steen 5\
 , Heusden-Zolder\, 3550\, België;X-APPLE-RADIUS=100;X-TITLE=Groepspraktij
 k Hal:geo:0,0
END:VEVENT
END:VCALENDAR