BEGIN:VCALENDAR
VERSION:2.0
PRODID:-//wp-events-plugin.com//6.6.4.4//EN
BEGIN:VEVENT
UID:1285@ggzlimburg.be
DTSTART:20260320T070000Z
DTEND:20260320T140000Z
DTSTAMP:20251215T122717Z
URL:https://ggzlimburg.be/events/kopp-koap-3-daagse-crosslink-voorjaar-202
 6/
SUMMARY:KOPP/KOAP 3-daagse - Crosslink - voorjaar 2026
DESCRIPTION:\n\n\n20/03\, 27/03\, 3/04 - Crosslink\n\n\n\n\nBeschrijving:In
  de begeleiding van een kind of jongere kom je geregeld in aanraking met e
 en ouder die worstelt met een psychische kwetsbaarheid. Zij die het trajec
 t met de ouders aangaan willen dan weer extra zorg bieden voor het kind\
 , aanwezig in de context. Hulpverleners komen hoe dan ook in aanraking met
  het thema KOPP/KOAP.\nMet deze vorming willen we jullie sensibiliseren i
 n het omgaan met deze thematiek.\n\n\nInhoud:\n\n 	Kennismaking met het th
 ema\n 	Inzoomen op signalen\, beschermende en risicofactoren\, gevolgen vo
 or de ontwikkeling en dit gekoppeld aan praktijkvoorbeelden\n 	Hoe ga je i
 n gesprek met het kind\, met de ouder of met het gezin? (rollenspel)\n 	Kr
 iebelkoffer en andere concrete materialen\n\n\n\n\nGoed om weten:\n\n\n 	D
 e vorming is ervaringsgericht\n 	We zetten in op concrete casussen en neme
 n je eigen ervaringen en reflecties mee\n 	We verbinden tussen verschillen
 de expertises en slaan de brug tussen volwassenhulpverlening en kind-jon
 geren hulpverlening.\n\n\nSprekers: Inez Vandewinkel\, Ellen Gibney\, Hil
 de Seys en Vicky Terteka\n\nPrijs: De kostprijs is €135 voor 3 dagen in
 clusief lunch. De betalingsgegevens geef je door bij inschrijving.\n\nData
 :\n\n 	vrijdag\, 20/03/2026 Uur: 9.00-16.30\n 	vrijdag\, 27/03/2026 Uur: 9
 .00-16.30\n 	vrijdag\, 3/04/2026: 9.00-16.30\n\nLocatie: Sociaal Huis Por
 tavida\, Vergaderzaal Waterschei (4e verdieping)\, Welzijnscampus 11\, 3
 600 Genk.\n\n\n\n\nInschrijven: 20260320_0327_0403 KOPP/KOAP 3-daagse: 20/
 03\, 27/03\, 3/04 - Crosslink  - Formulier invullen\n\n
CATEGORIES:Vormingen,Vormingen-login
LOCATION:Sociaal Huis Portavida\, Welzijnscampus 11\, Genk\, 3600\, België
GEO:50.967325;5.510364
X-APPLE-STRUCTURED-LOCATION;VALUE=URI;X-ADDRESS=Welzijnscampus 11\, Genk\, 
 3600\, België;X-APPLE-RADIUS=100;X-TITLE=Sociaal Huis Portavida:geo:50.96
 7325,5.510364
END:VEVENT
END:VCALENDAR