BEGIN:VCALENDAR
VERSION:2.0
PRODID:-//wp-events-plugin.com//6.6.4.4//EN
BEGIN:VEVENT
UID:868@ggzlimburg.be
DTSTART:20260422T120000Z
DTEND:20260422T140000Z
DTSTAMP:20250708T135739Z
URL:https://ggzlimburg.be/events/kopp-op-groep-kinderen-bree/
SUMMARY:KOPP OP! groep kinderen Bree
DESCRIPTION:Wie? \n\nKOPP OP! groepen zijn er voor Kinderen die Opgroeien m
 et Personen met een Psychische kwetsbaarheid in hun omgeving. Met het groe
 pstraject zetten we in op Ondersteuning en Preventie.\n\nWat? \n\nTijdens 
 het groepstraject wordt er informatie gegeven\, ervaringen gedeeld en rond
  verschillende thema’s gewerkt om de veerkracht van deze kinderen en jon
 geren te ondersteunen. Deelname aan deze KOPP OP! groep bestaat uit:\n\n·
  een individueel kennismakingsgesprek\n\n· 6 groepsbijeenkomsten van 2 uu
 r met leeftijdsgenoten (basisschool/middelbare school leeftijd)\n\n· een 
 afrondingsgesprek met kind/jongere en ouder(s).\n\n· een eenmalige groeps
 sessie met ouders waarin informatie\, hun ervaringen en vragen als ouder a
 an bod kunnen komen.\n\nWanneer?\n\n· 22/04/2026 (parallel met oudersessi
 e)\n\n· 29/04/2026\n\n· 6/05/2026\n\n· 13/05/2026\n\n· 20/05/2026\n\n
 · 24/06/2026\n\nFlyer m.b.t. dit groepsaanbod op www.ligant.be\n\nAanmeld
 ingen of vragen?\n\nHiervoor kun je terecht bij de Ligant Connect consultl
 ijn 011/49 42 78 of mail naar connect@ligant.be\n\n&nbsp\;
CATEGORIES:0 - 18 jaar,Groepsaanbod,Leeftijd
LOCATION:Huis van het kind Bree\, De Houborn 45\, Bree\, Limburg\, 3960\, B
 ree\, België
X-APPLE-STRUCTURED-LOCATION;VALUE=URI;X-ADDRESS=De Houborn 45\, Bree\, Limb
 urg\, 3960\, Bree\, België;X-APPLE-RADIUS=100;X-TITLE=Huis van het kind B
 ree:geo:0,0
END:VEVENT
END:VCALENDAR