BEGIN:VCALENDAR
VERSION:2.0
PRODID:-//wp-events-plugin.com//6.6.4.4//EN
BEGIN:VEVENT
UID:1451@ggzlimburg.be
DTSTART:20260307T130000Z
DTEND:20260307T143000Z
DTSTAMP:20260217T070353Z
URL:https://ggzlimburg.be/events/krachtig-blijven-staan-in-tijden-van-chro
 nisch-kwetsbaar-ziek-zijn-van-overleven-naar-leven/
SUMMARY:Krachtig blijven staan in tijden van chronisch kwetsbaar/ziek zijn.
  Van overleven naar leven!
DESCRIPTION:Meer dan Mijn DiagnoseLeven met een chronische aandoening vraag
 t meer dan medische opvolging alleen. Het raakt je energie\, je identiteit
 \, je relaties en je toekomstbeeld. Het confronteert je met grenzen\, onze
 kerheid en verlies\, maar ook met veerkracht die je misschien nog niet ken
 de.\nIn dit traject staan we stil bij wat chronisch ziek zijn echt beteken
 t. Niet alleen lichamelijk\, maar ook mentaal en emotioneel. We onderzoeke
 n hoe je omgaat met pijn\, vermoeidheid\, frustratie en onbegrip. Hoe je b
 alans vindt tussen aanvaarden en blijven bewegen. Hoe je ruimte maakt voor
  wat moeilijk is\, zonder dat het je volledig definieert.\nJe krijgt inzic
 ht in de wisselwerking tussen lichaam en geest en leert strategieën om st
 ress te reguleren\, energie beter te doseren en mild te kijken naar jezelf
 . We werken rond identiteit\, grenzen aangeven en communiceren over je nod
 en\, zodat je sterker staat in contact met anderen.\nDit is geen traject d
 at focust op wat niet meer kan\, maar op hoe je binnen jouw realiteit opni
 euw richting en kwaliteit van leven kan vinden.\nVoor wie wil leven met ee
 n aandoening\, zonder zichzelf te verliezen.\nDATA: Zaterdag 7/03 van 15u0
 0 – 16u30 en 18/3 – 25/3 – 1/4 – 15/4 van 13u00 tot 14u30\nLocatie
 : Sint-Truiden \nInschrijven: www.all4people.be - jessie@jlt-consulting.b
 e - 0498/431116
CATEGORIES:18 jaar en ouder,Groepsaanbod,Leeftijd
LOCATION:Praktijk All4people\, Halmaalweg 22\, Sint-Truiden\, 3800\, Belgi
 ë
GEO:50.813673;5.173613
X-APPLE-STRUCTURED-LOCATION;VALUE=URI;X-ADDRESS=Halmaalweg 22\, Sint-Truide
 n\, 3800\, België;X-APPLE-RADIUS=100;X-TITLE=Praktijk All4people:geo:50.8
 13673,5.173613
END:VEVENT
END:VCALENDAR