BEGIN:VCALENDAR
VERSION:2.0
PRODID:-//wp-events-plugin.com//6.6.4.4//EN
BEGIN:VEVENT
UID:1460@ggzlimburg.be
DTSTART:20260307T123000Z
DTEND:20260307T140000Z
DTSTAMP:20260217T093513Z
URL:https://ggzlimburg.be/events/krachtig-blijven-staan-in-zijden-van-chro
 nisch-kwetsbaar-ziek-zijn-van-overleven-naar-leven/
SUMMARY:Krachtig blijven staan in zijden van chronisch kwetsbaar/ziek zijn!
  Van overleven naar leven.
DESCRIPTION:Leven met een chronische aandoening vraagt meer dan medische op
 volging alleen. Het raakt je energie\, je identiteit\, je relaties en je t
 oekomstbeeld. Het confronteert je met grenzen\, onzekerheid en verlies\, m
 aar ook met veerkracht die je misschien nog niet kende.\nIn dit traject st
 aan we stil bij wat chronisch ziek zijn echt betekent. Niet alleen lichame
 lijk\, maar ook mentaal en emotioneel. We onderzoeken hoe je omgaat met pi
 jn\, vermoeidheid\, frustratie en onbegrip. Hoe je balans vindt tussen aan
 vaarden en blijven bewegen. Hoe je ruimte maakt voor wat moeilijk is\, zon
 der dat het je volledig definieert.\nJe krijgt inzicht in de wisselwerking
  tussen lichaam en geest en leert strategieën om stress te reguleren\, en
 ergie beter te doseren en mild te kijken naar jezelf. We werken rond ident
 iteit\, grenzen aangeven en communiceren over je noden\, zodat je sterker 
 staat in contact met anderen.\nDit is geen traject dat focust op wat niet 
 meer kan\, maar op hoe je binnen jouw realiteit opnieuw richting en kwalit
 eit van leven kan vinden.\nVoor wie wil leven mét een aandoening\, zonder
  zichzelf te verliezen.\n\n\nDATA: Zaterdag 7/03 van 14u30 - 16:00 &amp\; 
 woensdag 18/3 - 25/3 - 1/4 - 15/4  telkens van 13u00 - 14u30 \nLOCATIE: S
 int-Truiden \nINSCHRIJVEN: www.all4people.be - jessie@jlt-consulting.be -
  0498431116\n
CATEGORIES:18 jaar en ouder,Groepsaanbod,Leeftijd
LOCATION:Praktijk All4people\, Halmaalweg 22\, Sint-Truiden\, 3800\, Belgi
 ë
GEO:50.813673;5.173613
X-APPLE-STRUCTURED-LOCATION;VALUE=URI;X-ADDRESS=Halmaalweg 22\, Sint-Truide
 n\, 3800\, België;X-APPLE-RADIUS=100;X-TITLE=Praktijk All4people:geo:50.8
 13673,5.173613
END:VEVENT
END:VCALENDAR