BEGIN:VCALENDAR
VERSION:2.0
PRODID:-//wp-events-plugin.com//6.6.4.4//EN
BEGIN:VEVENT
UID:1170@ggzlimburg.be
DTSTART:20260429T130000Z
DTEND:20260429T143000Z
DTSTAMP:20260410T045723Z
URL:https://ggzlimburg.be/events/liever-assertiever-20/
SUMMARY:Liever Assertiever
DESCRIPTION:Ben je ' t beu om jezelf weg te cijferen of voorbij te lopen? Z
 ou jouw leven er heel wat beter uitzien als je erin zou slagen grenzen te 
 stellen of wat vaker voor je eigen mening uit te komen. En wil je dit alle
 s leren doen op een heldere en verbindende manier. Dan kunnen wij jou help
 en. Leer in 7 interactieve boeiende trainingsdagen om assertiever te worde
 n.   \n\nPraktische info \n\nWanneer: 29/4\, 6/5\, 13/5\, 20/5\, 27/5\
 , 3/6\, 10/6 van 15u00-16u30\n\nWaar: Kurago Hasselt (Ferdinand Verbiestla
 an 4\, 3500 Hasselt)\n\nMeer info en inschrijven: Liever Assertiever - ove
 rdag | KURAGO - 2.0\n\nKostprijs: Bij het kiezen van dit ticket\, betaal j
 e voor 7 sessies een totaal van 17\,5 euro. De prijs van het intake- en op
 volggesprek is niet inbegrepen in deze prijs.* \n\n*Eventuele intake- en 
 opvolggesprek zijn aan het tarief van 0-11 euro per sessie\, afhankelijk v
 an jouw individuele situatie. Dit groepsaanbod wordt ondersteund door de n
 etwerken geestelijke gezondheidszorg Limburg\, en betaalbaar aangeboden da
 nkzij financiële tussenkomst van de FOD Volksgezondheid en het RIZIV. 
CATEGORIES:18 jaar en ouder,Groepsaanbod,Leeftijd
LOCATION:Kurago Hasselt\, Ferdinand Verbiestlaan 4\, Hasselt\, 3500\, Belgi
 ë
GEO:50.926742;5.351926
X-APPLE-STRUCTURED-LOCATION;VALUE=URI;X-ADDRESS=Ferdinand Verbiestlaan 4\, 
 Hasselt\, 3500\, België;X-APPLE-RADIUS=100;X-TITLE=Kurago Hasselt:geo:50.
 926742,5.351926
END:VEVENT
END:VCALENDAR