BEGIN:VCALENDAR
VERSION:2.0
PRODID:-//wp-events-plugin.com//6.6.4.4//EN
BEGIN:VEVENT
UID:1449@ggzlimburg.be
DTSTART:20260316T150000Z
DTEND:20260316T163000Z
DTSTAMP:20260217T071121Z
URL:https://ggzlimburg.be/events/master-your-mindset-van-negativisme-en-pi
 ekeren-naar-positief-zelfleiderschap/
SUMMARY:Master your mindset! Van negativisme en piekeren naar positief zelf
 leiderschap
DESCRIPTION:Master Your MindsetVan negativisme en piekeren naar positivisme
  en zelfleiderschap\nOnze mindset kleurt hoe we denken\, voelen en handele
 n. Ze bepaalt hoe we omgaan met uitdagingen\, hoe veerkrachtig we zijn en 
 hoeveel ruimte we ervaren om te groeien. Wie vastzit in piekeren of doemde
 nken\, verliest energie aan gedachten die niets oplossen. Dat kan anders.\
 nIn Master Your Mindset leer je begrijpen hoe je brein werkt en hoe gebeur
 tenissen hun impact hebben op jouw denken en gedrag. Je krijgt inzicht in 
 patronen die je tegenhouden en ontwikkelt concrete tools om bewuster te ki
 ezen voor een helpende\, groeigerichte mindset.\nJe verschuift van denken 
 in beperkingen naar denken in mogelijkheden. Je leert stress en piekeren d
 oorbreken\, vergroot je emotionele en fysieke veerkracht en bouwt aan zelf
 leiderschap. Uitdagingen worden leermomenten. Groei wordt een bewuste keuz
 e.\nProgramma• Hoe werkt mijn brein?• De impact van gebeurtenissen op 
 ons brein• Het effect van een gezonde mindset• Gedaan met piekeren en 
 stress• Van fixed naar growth mindset• Lichaam en geest: emotionele en
  fysieke fitheid\nPraktischVijf trainingssessies van 1\,5 uur in groep van
  5 tot 10 personen.Remgeld: 2\,50 euro per sessie.\nWil je meer rust in je
  hoofd en meer regie over je leven? Dan is dit traject jouw startpunt.\nDA
 TA: Maandag 16/03 - 23/03 - 30/03 - 13/04 - 20/04 telkens van 17u00 tot 18
 u30\nInschrijven via www.all4people.be of mail naar jessie@jlt-consulting.
 be
CATEGORIES:18 jaar en ouder,Groepsaanbod,Leeftijd
LOCATION:Praktijk All4people\, Halmaalweg 22\, Sint-Truiden\, 3800\, Belgi
 ë
GEO:50.813673;5.173613
X-APPLE-STRUCTURED-LOCATION;VALUE=URI;X-ADDRESS=Halmaalweg 22\, Sint-Truide
 n\, 3800\, België;X-APPLE-RADIUS=100;X-TITLE=Praktijk All4people:geo:50.8
 13673,5.173613
END:VEVENT
END:VCALENDAR