BEGIN:VCALENDAR
VERSION:2.0
PRODID:-//wp-events-plugin.com//6.6.4.4//EN
BEGIN:VEVENT
UID:1165@ggzlimburg.be
DTSTART:20260107T160000Z
DTEND:20260107T173000Z
DTSTAMP:20251127T164533Z
URL:https://ggzlimburg.be/events/offline-gamen-8/
SUMMARY:Offline gamen 8+
DESCRIPTION:Gamen is niet meer weg te denken.\nWat voor gamer ben jij? Wat 
 als gamen uit de hand loopt? En hoe (on)gemakkelijk voel jij je nog in de 
 omgang met anderen\, als t niet online is?\nIn deze sessies leggen we jou 
 (en je ouders!) even uit waarom gamen zo leuk is en ook voordelen heeft. W
 e geven tips om de gevaren van het scherm te vermijden\nen hoe een goed ev
 enwicht te vinden.\nDaarnaast gaan we ook spelenderwijs aan de slag (zonde
 r scherm!) om moeilijkere contacten met vrienden\, klasgenoten\, familie\,
  ... aan te pakken.\nWe geven je zelfvertrouwen daarmee een boost!\n&nbsp\
 ;\n\ninschrijven?\n\ninfo@mijntherapeut.be\n\nindividueel voorgesprek verp
 licht = schrijf je tijdig in aub\n\nmeer info?\n\nwww.mijntherapeut.be
ATTACH;FMTTYPE=image/jpeg:https://ggzlimburg.be/app/uploads/2025/10/offlin
 e-GAMEN-voorjaar-2026-1.png
CATEGORIES:0 - 18 jaar,Groepsaanbod,Leeftijd
LOCATION:Mals Vlees\, Stadswal 14\, Beringen\, 3580\, België
GEO:51.047298;5.221634
X-APPLE-STRUCTURED-LOCATION;VALUE=URI;X-ADDRESS=Stadswal 14\, Beringen\, 35
 80\, België;X-APPLE-RADIUS=100;X-TITLE=Mals Vlees:geo:51.047298,5.221634
END:VEVENT
END:VCALENDAR