BEGIN:VCALENDAR
VERSION:2.0
PRODID:-//wp-events-plugin.com//6.6.4.4//EN
BEGIN:VEVENT
UID:1390@ggzlimburg.be
DTSTART:20260413T110000Z
DTEND:20260413T140000Z
DTSTAMP:20260212T093501Z
URL:https://ggzlimburg.be/events/op-reis-naar-jezelf-10-14-jaar/
SUMMARY:Op reis naar jezelf (10- 14 jaar)
DESCRIPTION:Sommige gebeurtenissen geven ons stress of een minder fijn gevo
 el.\nWil jij beter kunnen omgaan met je gevoelens?\n\n\n 	Om zo meer te ku
 nnen genieten van het leven?\n 	Om zo meer vertrouwen te hebben in jezelf\
 n 	Om zo meer vertrouwen te hebben in de uitdagingen die op je pad komen?\
 n\nDan is ‘Op reis naar jeZelf’ helemaal iets voor jou!\n\n\n 	Je leer
 t aan de hand van creatieve methodieken jezelf beter kennen.\n 	Je leert a
 an de hand van laagdrempelige relaxatieoefeningen weer rust vinden in jeze
 lf.\n 	Je leert hierdoor hoe je kan omgaan met uitdagingen in je leven\n\n
 Praktische informatie:\n\n 	Tieners van 10-14 jaar\n 	Paasvakantie: maanda
 g 13 en dinsdag 14 april van 13u - 16u\n 	Inschrijven via linsey.tiri.anth
 e@outlook.com\n 	Bij inschrijving engageer je je voor de 2 sessies\n
ATTACH;FMTTYPE=image/jpeg:https://ggzlimburg.be/app/uploads/2026/01/Flyer-
 op-Reis-naar-jezelf_paasvakantie.png
CATEGORIES:0 - 18 jaar,Groepsaanbod,Leeftijd
LOCATION:Siloam\, Holsteenweg 17 3520 Zonhoven\, Zonhoven\, België\, 3520\
 , Limburg\, België
X-APPLE-STRUCTURED-LOCATION;VALUE=URI;X-ADDRESS=Holsteenweg 17 3520 Zonhove
 n\, Zonhoven\, België\, 3520\, Limburg\, België;X-APPLE-RADIUS=100;X-TIT
 LE=Siloam:geo:0,0
END:VEVENT
END:VCALENDAR