BEGIN:VCALENDAR
VERSION:2.0
PRODID:-//wp-events-plugin.com//6.6.4.4//EN
BEGIN:VEVENT
UID:1464@ggzlimburg.be
DTSTART:20260414T163000Z
DTEND:20260414T190000Z
DTSTAMP:20260326T110722Z
URL:https://ggzlimburg.be/events/opvoeden-van-kinderen-met-autisme-4/
SUMMARY:Opvoeden van kinderen met autisme
DESCRIPTION:Groepsbegeleiding voor ouders van kinderen met een recente auti
 smediagnose. We werken rond inzicht\, handvaten en hoe deze thuis toe te p
 assen en het delen van persoonlijke ervaringen tussen ouders.\n\nMeer info
  en inschrijving via https://www.praktijkvoorkinderpsychiatrie.be\n\n&nbsp
 \;\n\n&nbsp\;
ATTACH;FMTTYPE=image/jpeg:https://ggzlimburg.be/app/uploads/2026/02/groeps
 begeleiding-voor-ouders-v-kinderen-met-recente-autismediagnose.png
CATEGORIES:0 - 18 jaar,Groepsaanbod,Leeftijd
LOCATION:Praktijk voor Kinderpsychiatrie\, Daalstraat 5A\, Zutendaal\, 3690
 \, België
X-APPLE-STRUCTURED-LOCATION;VALUE=URI;X-ADDRESS=Daalstraat 5A\, Zutendaal\,
  3690\, België;X-APPLE-RADIUS=100;X-TITLE=Praktijk voor Kinderpsychiatrie
 :geo:0,0
END:VEVENT
END:VCALENDAR