BEGIN:VCALENDAR
VERSION:2.0
PRODID:-//wp-events-plugin.com//6.6.4.4//EN
BEGIN:VEVENT
UID:1210@ggzlimburg.be
DTSTART:20260305T173000Z
DTEND:20260305T193000Z
DTSTAMP:20251126T130051Z
URL:https://ggzlimburg.be/events/oudergroep-geweldloos-verzet-nieuwe-autor
 iteit-3/
SUMMARY:Oudergroep Geweldloos Verzet &amp\; Nieuwe Autoriteit
DESCRIPTION:Tijdens de bijeenkomsten werken we aan het versterken van jouw 
 rol als verantwoordelijke en liefdevolle ouder\, zodat je een positief gev
 oel over jezelf kunt behouden. We besteden aandacht aan hoe je geweldloze 
 contacten kunt onderhouden met je kinderen\, zonder daarbij jezelf uit het
  oog te verliezen.
CATEGORIES:0 - 18 jaar,15 - 23 jaar,18 jaar en ouder,Groepsaanbod,Leeftijd
LOCATION:Huis van het kind Bree\, De Houborn 45\, Bree\, Limburg\, 3960\, B
 ree\, België
X-APPLE-STRUCTURED-LOCATION;VALUE=URI;X-ADDRESS=De Houborn 45\, Bree\, Limb
 urg\, 3960\, Bree\, België;X-APPLE-RADIUS=100;X-TITLE=Huis van het kind B
 ree:geo:0,0
END:VEVENT
END:VCALENDAR