BEGIN:VCALENDAR
VERSION:2.0
PRODID:-//wp-events-plugin.com//6.6.4.4//EN
BEGIN:VEVENT
UID:1606@ggzlimburg.be
DTSTART:20260427T103000Z
DTEND:20260427T120000Z
DTSTAMP:20260424T100355Z
URL:https://ggzlimburg.be/events/overspannen-5/
SUMMARY:Overspannen?
DESCRIPTION:Heb je last van stressgerelateerde klachten en zoek je concret
 e manieren om hiermee om te gaan? \n\nKrijg handvaten rond hoe je moet om
 gaan met stressgerelateerde klachten\n\n 	Identificeer gepaste zelfzorg vo
 or jou\n 	Ontdek manieren om zelfzorg efficiënt toe te passen\n 	Onderzoe
 k welke overtuigingen je soms in de weg zitten\n\n\nWanneer?\nmaandagen 12
 u30 -14u00 \n\n 	27 april 2026\n 	04 mei 2026\n 	18 mei 2026\n 	1 juni 202
 6\n 	8 juni 2026\n 	22 juni 2026\n 	13 juli 2026\n\n\nAdres?\n\nTumi Thera
 peutics\nDe Lobbert 6\n\n3550 Heusden-Zolder\n\n&nbsp\;\n\nInschrijven en 
 meer info  via deze link 
CATEGORIES:18 jaar en ouder,Groepsaanbod,Leeftijd
LOCATION:Tumi Therapeutics Heusden-Zolder\, De Lobbert 6\, Heusden-Zolder\,
  3550\, België
GEO:51.047048;5.310666
X-APPLE-STRUCTURED-LOCATION;VALUE=URI;X-ADDRESS=De Lobbert 6\, Heusden-Zold
 er\, 3550\, België;X-APPLE-RADIUS=100;X-TITLE=Tumi Therapeutics Heusden-Z
 older:geo:51.047048,5.310666
END:VEVENT
END:VCALENDAR