BEGIN:VCALENDAR
VERSION:2.0
PRODID:-//wp-events-plugin.com//6.6.4.4//EN
BEGIN:VEVENT
UID:1426@ggzlimburg.be
DTSTART:20260319T113000Z
DTEND:20260319T133000Z
DTSTAMP:20260209T124434Z
URL:https://ggzlimburg.be/events/regionale-intervisies-elp-voor-noord-limb
 urg-nog-2-plekjes-open/
SUMMARY:Regionale intervisies ELP voor Noord-Limburg (nog 2 plekjes open)
DESCRIPTION:In de afgelopen jaren hebben we samen gewerkt aan de kwaliteits
 volle uitrol van de conventie. Ondertussen worden krachten en valkuilen\, 
 good practices en groeipunten meer en meer zichtbaar.\n\nVanuit de opvolgg
 esprekken vernamen we opnieuw dat er bij velen van jullie nieuwsgierigheid
  is rond hoe de collega KP/KO werken. Er is nood is aan het leren van en m
 et elkaar.\n\nDaarom zetten we binnen ons Limburgs vormingsprogramma de 
 ‘regionale intervisiegroepen ELP’ verder. Deze intervisies zijn een pl
 aats van ontmoeting\, dialoog en ontwikkeling. Ze richten zich op KP/KO\, 
 werkzaam in de regio\, die hun eigen ELP- practices graag willen delen en 
 anderen willen inspireren\, en/of naar KP/KO die op zoek zijn naar handvat
 en en professionele groei. Samen bouwen ze aan een sterkere identiteit van
  ELP.\n\nDe intervisies worden begeleid door enkele van onze eigen KP/KO d
 ie de opleiding ‘train de intervisoren ‘ van de ELP-academie gevolgd h
 ebben en richten zich zowel naar KP/KO die werken met volwassenen als met 
 kinderen en jongeren.\n\nELZ Noord: Sigrid Claes en Nathalie Claes\nData:\
 n\n 	sessie 1 op donderdag 19 maart 2026 van 13u30 tot 15u30\n 	sessie 2
 : samen te bepalen\n 	sessie 3: samen te bepalen\n\n\nLocatie: OC De Schan
 s (Grote Vergaderzaal-S4)\, Schansplein 1\, 3940 Hechtel (onder voorbehoud
 )\n\nInhoud:\n\n 	Aan de hand van het OASE-model gaan we praktisch aan d
 e slag via bespreking van de indicatiestelling\, (moeilijke) casussen\, je
  werkrelatie met de cliënt\, het vertalen van doelen naar interventies en
 z. De inhoud van de intervisies is ELP- gericht\, maar verdere concretiser
 ing gebeurt in overleg met de deelnemers.\n 	Dit steeds in de veiligheid v
 an een kleine vaste groep (min 6- max 10 KP/KO) met aandacht voor het ve
 rsterken van de ELP-competenties.\n 	Voorbereiding: Je brengt naar elke i
 ntervisie een casus mee waarbij het KOP/PrOP model is ingevuld en met co
 ncrete vragen naar je collega’s.\n 	De volgende data en locaties worden
  vastgelegd in overleg met de deelnemers\, zodra de inschrijvingen afgeron
 d zijn.\n 	We richten richten ons op 3 intervisies per regio. Uiteraard 
 tellen deze mee voor het quotum van 3 gevolgde opleidingen per jaar.\n\nHe
 b je interesse? Schrijf je zo snel mogelijk in via deze link vermits het 
 aanbod zeer beperkt is! Uiterste datum van inschrijving is 27 februari 20
 26. We verwachten dat je je engageert voor alle sessies vermits we will
 en werken met veilige vaste groepen.\n\nBijkomende vragen: Stuur een mailt
 je naar karen.beuckx@noorderhart.be.
CATEGORIES:0 - 18 jaar,15 - 23 jaar,18 jaar en
 ouder,Leeftijd,Vormingen-login
LOCATION:OC De Schans\, Schansplein 1\, Hechtel\, 3940\, België
X-APPLE-STRUCTURED-LOCATION;VALUE=URI;X-ADDRESS=Schansplein 1\, Hechtel\, 3
 940\, België;X-APPLE-RADIUS=100;X-TITLE=OC De Schans:geo:0,0
END:VEVENT
END:VCALENDAR