BEGIN:VCALENDAR
VERSION:2.0
PRODID:-//wp-events-plugin.com//6.6.4.4//EN
BEGIN:VEVENT
UID:1486@ggzlimburg.be
DTSTART:20260422T131500Z
DTEND:20260422T144500Z
DTSTAMP:20260226T114336Z
URL:https://ggzlimburg.be/events/rots-en-water-3e-en-4e-leerjaar/
SUMMARY:Rots en Water (3e en 4e leerjaar)
DESCRIPTION:Een weerbaarheidstraining voor Kinderen waar je leert door te d
 oen en te ervaren!\nIn de Rots &amp\; Water groepstraining leren we op een
  speelse en laagdrempelige manier\, samen met leeftijdsgenoten:\n\n\n 	Hoe
  je kunt opkomen voor jezelf\n 	Hoe je kunt samenwerken\n 	Hoe je jezelf k
 unt beheersen\n 	Hoe je je zelfvertrouwen kunt vergroten\n\nWanneer:\nDe R
 ots &amp\; Water sessies gaan door op 8 woensdagen:\n1. 22/04/2026\n2. 29/
 04/2026\n3. 06/05/2026\n4. 13/05/2026\n5. 20/05/2026\n6. 27/05/2026\n7. 03
 /06/2026\n8. 10/06/2026 (= supporterssessie tijdens het laatste half uurtj
 e)\n\nGroep 2 voor kinderen van het 5e en 6e leerjaar (15u15-16u45)\nIn
 schrijven kan via deze link.
ATTACH;FMTTYPE=image/jpeg:https://ggzlimburg.be/app/uploads/2026/02/RW-Gel
 ieren-1.png
CATEGORIES:0 - 18 jaar,Groepsaanbod,Leeftijd
LOCATION:GO! De Reinpad-Gelieren\, Oude Hofstraat 7\, Genk\, 3600\, België
X-APPLE-STRUCTURED-LOCATION;VALUE=URI;X-ADDRESS=Oude Hofstraat 7\, Genk\, 3
 600\, België;X-APPLE-RADIUS=100;X-TITLE=GO! De Reinpad-Gelieren:geo:0,0
END:VEVENT
END:VCALENDAR