BEGIN:VCALENDAR
VERSION:2.0
PRODID:-//wp-events-plugin.com//6.6.4.4//EN
BEGIN:VEVENT
UID:1333@ggzlimburg.be
DTSTART:20260421T133000Z
DTEND:20260421T150000Z
DTSTAMP:20260112T154950Z
URL:https://ggzlimburg.be/events/rots-en-watertraining-een-weerbaarheidstr
 aining-voor-kinderen/
SUMMARY:Rots en watertraining: een weerbaarheidstraining voor kinderen
DESCRIPTION:Op een speelse en laagdrempelige manier gaan we in 7 sessies op
  zoek naar: Hoe je weerbaar kunt zijn als een rots en buigzaam kunt zijn a
 ls water. Wat je grenzen zijn\, hoe je ze kunt aangeven en hoe je ze kunt 
 verdedigen. Hoe je je lichaamsbewustzijn kunt verhogen om meer vat te krij
 gen op je omgeving. We zetten beweging\, mindfulness en creatieve methodie
 ken in als middel om met deze thema's aan de slag te gaan.\n\nVoor meer in
 fo zie onderstaande link:\n\nhttps://www.lanaken.be/activiteiten/detail/49
 60/rots-en-water\nDit groepsaanbod is gratis en valt binnen de conventie E
 erstelijnspsychologische zorg. Het aanbod wordt ondersteund door de netwer
 ken Geestelijke Gezondheidszorg Limburg. Meer info op www.ggzlimburg.be
CATEGORIES:0 - 18 jaar,Groepsaanbod,Leeftijd
LOCATION:De Bron Lanaken\, Koning Albertlaan 112\, Lanaken\, Limburg\, 3620
 \, België
X-APPLE-STRUCTURED-LOCATION;VALUE=URI;X-ADDRESS=Koning Albertlaan 112\, Lan
 aken\, Limburg\, 3620\, België;X-APPLE-RADIUS=100;X-TITLE=De Bron Lanaken
 :geo:0,0
END:VEVENT
END:VCALENDAR