BEGIN:VCALENDAR
VERSION:2.0
PRODID:-//wp-events-plugin.com//6.6.4.4//EN
BEGIN:VEVENT
UID:1393@ggzlimburg.be
DTSTART:20260409T080000Z
DTEND:20260409T093000Z
DTSTAMP:20260212T123335Z
URL:https://ggzlimburg.be/events/rust-in-je-hoofd-65-9-jaar/
SUMMARY:Rust in je hoofd (6\,5 - 9 jaar)
DESCRIPTION:In dit groepstraject voor kinderen begeleiden we hen in een kle
 ine groepje\, naar meer innerlijke rust en balans. Via spel\, lichaamsgeri
 chte oefeningen en muziek leren ze spanning en controle loslaten.\nVoor ki
 nderen van 6\,5 tot 9 jaar die soms te veel in hun hoofdje zitten.\nPrakti
 sche informatie:\n\n 	In het Verwondercentrum (Kempenstraat 158\, Diepenbe
 ek)\n 	Donderdag 9 en vrijdag 10 april van 10u - 11u30\n 	Inschrijven via 
 linsey.tiri.anthe@outlook.com (rijksregisternummer vermelden)\n
ATTACH;FMTTYPE=image/jpeg:https://ggzlimburg.be/app/uploads/2026/01/Flyer-
 paasvakantie-2026-1.png
CATEGORIES:0 - 18 jaar,Groepsaanbod,Leeftijd
LOCATION:Verwondercentrum\, Kempenstraat 158\, Diepenbeek\, 3590\, Limburg\
 , België
X-APPLE-STRUCTURED-LOCATION;VALUE=URI;X-ADDRESS=Kempenstraat 158\, Diepenbe
 ek\, 3590\, Limburg\, België;X-APPLE-RADIUS=100;X-TITLE=Verwondercentrum:
 geo:0,0
END:VEVENT
END:VCALENDAR