BEGIN:VCALENDAR
VERSION:2.0
PRODID:-//wp-events-plugin.com//6.6.4.4//EN
BEGIN:VEVENT
UID:1337@ggzlimburg.be
DTSTART:20260414T080000Z
DTEND:20260414T093000Z
DTSTAMP:20260112T162858Z
URL:https://ggzlimburg.be/events/samen-sterk-een-training-voor-plusbroers-
 zussen-van-6-t-m-10-jaar-2/
SUMMARY:Samen Sterk! Een training voor (plus)broers & zussen van 6 t/m 10 j
 aar
DESCRIPTION:Samen Sterk!\nEen training voor (plus)broers &amp\; zussen van 
 6 t/m 10 jaar:\n\nHeb jij soms ruzie met je broer of zus? Of plagen jullie
  elkaar weleens\, ook al zien jullie elkaar graag? In deze training leren 
 jullie hoe je beter kan samenwerken\, elkaar kan begrijpen én weer meer p
 lezier kan maken. We doen leuke teamopdrachten &amp\; creatieve challenges
  waarin samenwerken centraal staat. Daarnaast doen we ook oefeningen met d
 e therapiedieren om te oefenen in vertrouwen en samenwerken. Zo worden jul
 lie een echt superteam!\n\nmeer info:\n\nhttps://beestigbuiten.be/\n\nInsc
 hrijven via:\ninfo@beestigbuiten.be\nof\nliesbethgeerkens@outlook.com\nDit
  groepsaanbod is gratis en valt binnen de conventie Eerstelijnspsychologis
 che zorg. Het aanbod wordt ondersteund door de netwerken Geestelijke Gezon
 dheidszorg Limburg. Meer info op www.ggzlimburg.be
ATTACH;FMTTYPE=image/jpeg:https://ggzlimburg.be/app/uploads/2026/01/WhatsA
 pp-Image-2026-01-10-at-20.08.52-1.jpeg
CATEGORIES:0 - 18 jaar,Groepsaanbod,Leeftijd
LOCATION:Beestig Buiten\, Kleistraat 6\, Beverst\, 3740\, België
GEO:50.889423;5.474716
X-APPLE-STRUCTURED-LOCATION;VALUE=URI;X-ADDRESS=Kleistraat 6\, Beverst\, 37
 40\, België;X-APPLE-RADIUS=100;X-TITLE=Beestig Buiten:geo:50.889423,5.474
 716
END:VEVENT
END:VCALENDAR