BEGIN:VCALENDAR
VERSION:2.0
PRODID:-//wp-events-plugin.com//6.6.4.4//EN
BEGIN:VEVENT
UID:1448@ggzlimburg.be
DTSTART:20260316T133000Z
DTEND:20260316T150000Z
DTSTAMP:20260217T070629Z
URL:https://ggzlimburg.be/events/schrap-die-burn-out-van-je-to-do-lijst-3/
SUMMARY:Schrap die burn-out van je to-do lijst!
DESCRIPTION:Je voelt je opgebrand\, maar je bent niet alleen. In deze train
 ing leer je wetenschappelijk onderbouwde strategieën om je energie te her
 stellen. Samen met anderen werk je aan praktische oplossingen\, in een her
 kenbare\, laagdrempelige sfeer. Ontdek hoe je stap voor stap weer grip kri
 jgt.\n\nSchrijf je vandaag nog in\, plaatsen zijn beperkt!\nInschrijven ka
 n via www.all4people.be of via jessie@jlt-consulting.be of via 0498/431116
 \nDATA: Maandag 16/03 - 23/03 - 30/03 -13/04 - 20/04 telkens van 15u30-17u
 00\nLocatie: Sint-Truiden\n&nbsp\;
CATEGORIES:18 jaar en ouder,Groepsaanbod,Leeftijd
LOCATION:Praktijk All4people\, Halmaalweg 22\, Sint-Truiden\, 3800\, Belgi
 ë
GEO:50.813673;5.173613
X-APPLE-STRUCTURED-LOCATION;VALUE=URI;X-ADDRESS=Halmaalweg 22\, Sint-Truide
 n\, 3800\, België;X-APPLE-RADIUS=100;X-TITLE=Praktijk All4people:geo:50.8
 13673,5.173613
END:VEVENT
END:VCALENDAR