BEGIN:VCALENDAR
VERSION:2.0
PRODID:-//wp-events-plugin.com//6.6.4.4//EN
BEGIN:VEVENT
UID:1339@ggzlimburg.be
DTSTART:20260325T173000Z
DTEND:20260325T190000Z
DTSTAMP:20260112T154550Z
URL:https://ggzlimburg.be/events/spectrum-sisters-groepsaanbod-voor-tiener
 meisjes-met-autisme/
SUMMARY:Spectrum Sisters. Groepsaanbod voor tienermeisjes met autisme.
DESCRIPTION:\nWie ben ik? Waar en hoe kom ik tot rust? Hoe kan ik anderen
  vertellen wat ik nodig heb? Wat vind ik belangrijk in vriendschap? Waar
  en hoe kan ik mezelf zijn?\nBen jij een meisje tussen 11 en 14 jaar met a
 utisme en zit je met deze en andere vragen in je hoofd? Wil je graag kenni
 s maken met andere tienermeisjes met autisme? Kom dan naar Spectrum Siste
 rs!\nWat houdt het groepsaanbod in?\n\n\nDit groepsaanbod richt zich speci
 fiek op tienermeisjes met autisme. Aan de hand van (creatieve) opdrachten 
 gaan we samen op zoek naar jouw noden en sterktes en creëren we een veili
 ge plek. Concrete thema’s die aan bod komen\, zijn: jezelf en de anderen
  leren kennen\, zelfbeeld\, sociale behoeften en sociale moeilijkheden\, o
 ntprikkelen en grenzen aanvoelen en respecteren.  Kunnen zijn wie je bent
 \, zonder het gevoel te hebben dat je je voortdurend moet aanpassen aan an
 deren\, staat in deze groep centraal.\n\nHet aanbod bestaat uit 7 groepsse
 ssies (waarvan 2 samen met de ouders) van telkens 1\,5 uur in een groep va
 n ongeveer 6 deelnemers. Voorafgaand aan het aanbod plannen we een kennism
 akingsgesprek met de tiener en haar ouders.\n\nVoor wie?\n\nDe groep rich
 t zich op meisjes tussen 11 en 14 jaar. De training is bedoeld voor meisj
 es die:\n\n 	een diagnose autisme hebben (ook meisjes met bijkomende diagn
 oses zoals ADHD\, leermoeilijkheden\, dyspraxie\, ... zijn welkom)\n 	graa
 g andere meisjes met autisme willen leren kennen en samen willen werken in
  groep\n 	gemotiveerd zijn om alle sessies bij te wonen\n\n\n\nBegeleiding
 De sessies worden begeleid door klinisch psychologe Lotte van Esch en au
 tismedeskundige Miriam Perrone. Ze hebben uitgebreide ervaring in het we
 rken met jongeren met autisme en kijken ernaar uit om jou te ontmoeten.\n\
 nWanneer gaan de sessies door?\n\nDe sessies zullen doorgaan op woensdagav
 ond\, van 18:30u tot 20u.\n\n 	25 maart 2026\n 	15 april 2026\n 	29 april 
 2026\n 	6 mei 2026 - samen met de ouders\n 	20 mei 2026\n 	27 mei 2026\n 	
 3 juni 2026 - samen met de ouders\n\nKostprijs\n\nDit groepsaanbod is grat
 is en valt binnen de conventie Eerstelijnspsychologische zorg en wordt ond
 ersteund door de netwerken Geestelijke Gezondheidszorg Limburg. Meer info 
 op www.ggzlimburg.be.\n\nWaar gaan de sessies door?\n\nGroepspraktijk Prak
 tijk de Reinpad\n\nReinpadstraat 87\n3600 Genk\n\nInteresse of meer weten?
 \n\nMail Lotte via Lotte.praktijkdereinpad@gmail.com of vul vrijblijvend d
 it formulier in.\n\n
ATTACH;FMTTYPE=image/jpeg:https://ggzlimburg.be/app/uploads/2026/01/2026-f
 lyer-Spectrum_-Sisters.png
CATEGORIES:0 - 18 jaar,Groepsaanbod,Leeftijd
LOCATION:Praktijk De Reinpad\, Reinpadstraat 87\, Genk\, Limburg\, 3600\, G
 enk\, België
X-APPLE-STRUCTURED-LOCATION;VALUE=URI;X-ADDRESS=Reinpadstraat 87\, Genk\, L
 imburg\, 3600\, Genk\, België;X-APPLE-RADIUS=100;X-TITLE=Praktijk De Rein
 pad:geo:0,0
END:VEVENT
END:VCALENDAR