BEGIN:VCALENDAR
VERSION:2.0
PRODID:-//wp-events-plugin.com//6.6.4.4//EN
BEGIN:VEVENT
UID:1254@ggzlimburg.be
DTSTART:20260401T170000Z
DTEND:20260401T183000Z
DTSTAMP:20251216T125001Z
URL:https://ggzlimburg.be/events/sterk-in-je-schoenen-assertiviteit-voor-s
 enioren/
SUMMARY:Sterk in je schoenen: assertiviteit voor senioren
DESCRIPTION:Voel je je soms schuldig wanneer je “nee” zegt?\nZou je gra
 ag je eigen grenzen meer bewaken?\nSta je soms tussen je (klein)kinderen e
 n ouders?\nWat mag je verwachten van deze interactieve lezing:\n\n\n 	inzi
 cht in het verschil tussen assertief\, passief \, manipulatief en agressie
 f gedrag\n 	handige zinnen en strategieën om jezelf duidelijk te uiten\n 
 	praktische tips\n 	meer zelfvertrouwen in je communicatie\n 	toegankelijk
 e lezing met ruimte voor vragen\n\n! interessant voor mantelzorgers.\ninsc
 hrijven is niet verplicht maar fijn! Bel 013 390 605 of mail lokaaldienste
 ncentrum@lummen.be\n&nbsp\;
ATTACH;FMTTYPE=image/jpeg:https://ggzlimburg.be/app/uploads/2025/12/assert
 iviteit-LDC-Lummen-1.png
CATEGORIES:18 jaar en ouder
LOCATION:Het Oosterhof\, Dr. Vanderhoeydonckstraat 56\, Lummen\, 3560\, Bel
 gië
X-APPLE-STRUCTURED-LOCATION;VALUE=URI;X-ADDRESS=Dr. Vanderhoeydonckstraat 5
 6\, Lummen\, 3560\, België;X-APPLE-RADIUS=100;X-TITLE=Het Oosterhof:geo:0
 ,0
END:VEVENT
END:VCALENDAR