BEGIN:VCALENDAR
VERSION:2.0
PRODID:-//wp-events-plugin.com//6.6.4.4//EN
BEGIN:VEVENT
UID:1406@ggzlimburg.be
DTSTART:20260413T080000Z
DTEND:20260413T093000Z
DTSTAMP:20260212T101326Z
URL:https://ggzlimburg.be/events/stress-en-relaxatie-ouder-en-kind-6-5-9-j
 aar/
SUMMARY:Stress en relaxatie (ouder en kind) (6.5-9 jaar)
DESCRIPTION:Dit traject bestaat uit twee sessies voor kinderen van 6\,5 tot
  9 jaar\, samen met een ouder. Linsey en Jill nemen jullie mee in wat stre
 ss is en hoe je er op een helpende manier mee kan omgaan. Jullie krijgen s
 peelse\, laagdrempelige en vooral lichaamsgerichte oefeningen aangereikt.\
 nMaandag 13 en dinsdag 14 april van 10u- 11u30\n@Siloam (Holsteenweg 17 Zo
 nhoven)\nInschrijven via linsey.tiri.anthe@outlook.com met vermelding van 
 rijksregisternummer kind en telefoonnummer
ATTACH;FMTTYPE=image/jpeg:https://ggzlimburg.be/app/uploads/2026/02/Stress
 -en-relaxatie-Pasen-2026.png
CATEGORIES:0 - 18 jaar,Groepsaanbod,Leeftijd
LOCATION:Siloam\, Holsteenweg 17 3520 Zonhoven\, Zonhoven\, België\, 3520\
 , Limburg\, België
X-APPLE-STRUCTURED-LOCATION;VALUE=URI;X-ADDRESS=Holsteenweg 17 3520 Zonhove
 n\, Zonhoven\, België\, 3520\, Limburg\, België;X-APPLE-RADIUS=100;X-TIT
 LE=Siloam:geo:0,0
END:VEVENT
END:VCALENDAR