BEGIN:VCALENDAR
VERSION:2.0
PRODID:-//wp-events-plugin.com//6.6.4.4//EN
BEGIN:VEVENT
UID:1478@ggzlimburg.be
DTSTART:20260404T070000Z
DTEND:20260404T083000Z
DTSTAMP:20260327T073311Z
URL:https://ggzlimburg.be/events/stress-loslaten-hoe-doe-je-dat-een-lichaa
 msgerichte-stressreducerende-methode-tre-tension-release-exercises-helpt-j
 e-op-weg/
SUMMARY:Stress loslaten? Hoe doe je dat? Een lichaamsgerichte stressreducer
 ende methode\, TRE - Tension Release Exercises\, helpt je op weg. (groep 1
 )
DESCRIPTION:Ervaar jij vaker spanning\, stress of lichamelijke onrust die j
 e moeilijk kan loslaten?\n\nDan nodigen we je graag uit voor een groepsaan
 bod rond TRE.\n\nTRE is een lichaamsgerichte methode die via eenvoudige o
 efeningen het lichaam helpt om opgebouwde spanning en stress los te laten
 .\n\nTijdens dit groepsaanbod leer je op een veilige en rustige manier hoe
  je deze oefeningen kan toepassen\, zodat je ook thuis spanning beter kan 
 reguleren.\n\nGroepssessies gaan door te Practimed Bree\, De Houborn 44 Br
 ee op volgende zaterdagen telkens van 9u tot 10u30: 11/4\, 18/4 en 25/4.\n
 \nEr worden aansluitend nog 2 sessies georganiseerd waarvoor je je op een 
 later moment kan inschrijven mocht je eerste traject nog willen verdiepen.
 \n\nDe data en start uur voor deze groep zijn:\n\n 	sessie 1: 4/04 om 9u00
 \n 	sessie 2: 25/04 om 9u00\n 	sessie 3: 2/05 om 9u00\n\nHeb je interesse 
 om deel te nemen of heb je vragen\, stuur dan een mailtje met je telefoonn
 ummer  naar carolinepraet@live.be. Er wordt dan contact met jou opgenomen
 .\n\nPer sessie wordt een eigen bijdrage van € 2\,5 gevraagd. Bij inschr
 ijving ontvang je meer praktische informatie.
CATEGORIES:18 jaar en ouder,Groepsaanbod,Leeftijd
LOCATION:Practimed Medisch Centrum Bree\, De Houborn 44\, Bree\, 3960\, Bel
 gië
GEO:51.13673;5.602308
X-APPLE-STRUCTURED-LOCATION;VALUE=URI;X-ADDRESS=De Houborn 44\, Bree\, 3960
 \, België;X-APPLE-RADIUS=100;X-TITLE=Practimed Medisch Centrum Bree:geo:5
 1.13673,5.602308
END:VEVENT
END:VCALENDAR